BEGIN:VCALENDAR
VERSION:2.0
PRODID:-//www.childcaredutchess.org//NONSGML kigkonsult.se iCalcreator 2.30
 .10//
CALSCALE:GREGORIAN
METHOD:PUBLISH
UID:579c0c57-3635-4dae-8636-199506678855
X-WR-CALDESC:Champions of Child Care publicly recognizes child care workers
  in Dutchess and Putnam Counties who\, despite low wages and long hours\, 
 have chosen to care for over 10\,000 children so their parents can work or
  attend school. The work they do enables over 300 Dutchess and Putnam Coun
 ty businesses to continue operating with employees who can devote their at
 tention to their work because they have the assurance that their children 
 are lovingly cared for by child care professionals.\nChampions of Child Ca
 re will recognize child care workers for milestones of years in the early 
 care and education field and for educational achievements. To celebrate th
 e value of the daily work of the child care workers\, special awards will 
 be presented to those who were nominated by parents or peers for outstandi
 ng performance. City and County dignitaries also honor the child care prof
 essionals for their valuable contributions to the community.
X-WR-RELCALID:06f39554d7f646628ac7f32e31255080
X-WR-TIMEZONE:America/New_York
BEGIN:VTIMEZONE
TZID:America/New_York
BEGIN:STANDARD
TZNAME:EST
DTSTART:20221106T020000
TZOFFSETFROM:-0400
TZOFFSETTO:-0500
RDATE:20231105T020000
RDATE:20241103T020000
END:STANDARD
BEGIN:DAYLIGHT
TZNAME:EDT
DTSTART:20230312T020000
TZOFFSETFROM:-0500
TZOFFSETTO:-0400
RDATE:20240310T020000
END:DAYLIGHT
END:VTIMEZONE
BEGIN:VEVENT
UID:2bae8904-6877-4273-891c-58755013248a
DTSTAMP:20260419T130059Z
DESCRIPTION:Champions of Child Care publicly recognizes child care workers 
 in Dutchess and Putnam Counties who\, despite low wages and long hours\, h
 ave chosen to care for over 10\,000 children so their parents can work or 
 attend school. The work they do enables over 300 Dutchess and Putnam Count
 y businesses to continue operating with employees who can devote their att
 ention to their work because they have the assurance that their children a
 re lovingly cared for by child care professionals.\nChampions of Child Car
 e will recognize child care workers for milestones of years in the early c
 are and education field and for educational achievements. To celebrate the
  value of the daily work of the child care workers\, special awards will b
 e presented to those who were nominated by parents or peers for outstandin
 g performance. City and County dignitaries also honor the child care profe
 ssionals for their valuable contributions to the community.
DTSTART;TZID=America/New_York:20230511T180000
DTEND;TZID=America/New_York:20230511T210000
LOCATION:The Grandview\, 176 Rinaldi Blvd.\, Poughkeepsie\, NY 12601 US
SUMMARY:2023 Champions of Child Care
END:VEVENT
END:VCALENDAR
