BEGIN:VCALENDAR
VERSION:2.0
PRODID:-//www.childcaredutchess.org//NONSGML kigkonsult.se iCalcreator 2.30
 .10//
CALSCALE:GREGORIAN
METHOD:PUBLISH
UID:fbfb970f-2deb-4bf9-a050-f114ad354cb3
X-WR-CALDESC:Champions of Child Care publicly recognizes child care workers
  in Dutchess and Putnam Counties who\, despite low wages and long hours\, 
 have chosen to care for over 10\,000 children so their parents can work or
  attend school. \nThe work they do enables over 300 Dutchess and Putnam Co
 unty businesses to continue operating with employees who can devote their 
 attention to their work because they have the assurance that their childre
 n are lovingly cared for by child care professionals.
X-WR-RELCALID:6e73787532923d2c71e8b3884d2f07f4
X-WR-TIMEZONE:America/New_York
BEGIN:VTIMEZONE
TZID:America/New_York
BEGIN:STANDARD
TZNAME:EST
DTSTART:20231105T020000
TZOFFSETFROM:-0400
TZOFFSETTO:-0500
RDATE:20241103T020000
RDATE:20251102T020000
END:STANDARD
BEGIN:DAYLIGHT
TZNAME:EDT
DTSTART:20240310T020000
TZOFFSETFROM:-0500
TZOFFSETTO:-0400
RDATE:20250309T020000
END:DAYLIGHT
END:VTIMEZONE
BEGIN:VEVENT
UID:c2ac6aa9-0d4d-44b1-ad0e-7bb96df6de1e
DTSTAMP:20260422T111150Z
DESCRIPTION:Champions of Child Care publicly recognizes child care workers 
 in Dutchess and Putnam Counties who\, despite low wages and long hours\, h
 ave chosen to care for over 10\,000 children so their parents can work or 
 attend school. \nThe work they do enables over 300 Dutchess and Putnam Cou
 nty businesses to continue operating with employees who can devote their a
 ttention to their work because they have the assurance that their children
  are lovingly cared for by child care professionals.
DTSTART;TZID=America/New_York:20240509T180000
DTEND;TZID=America/New_York:20240509T210000
LOCATION:Villa Borghese\, 70 Widmer Road\, Wappingers Falls\, NY 12603 US
SUMMARY:2024 Champions of Child Care
END:VEVENT
END:VCALENDAR
