BEGIN:VCALENDAR
VERSION:2.0
PRODID:-//www.childcaredutchess.org//NONSGML kigkonsult.se iCalcreator 2.30
 .10//
CALSCALE:GREGORIAN
METHOD:PUBLISH
UID:e19c5dfc-23ae-4aff-a517-6a00c6350283
X-WR-CALDESC:Saturday\, August 16\, 2025\n9:30 am - 12:30 pm\n\nThis class 
 meets the OCFS requirements for CPR and First Aid for child care providers
 .\n\nTrainer: Scott Kohn\, Certified First Aid/CPR Instructor\n\nThe cost 
 for the class is $100 per person and is not EIP eligible.\n\nTHIS CLASS IS
  LIMITED TO 20 PEOPLE ONLY. Register early to reserve your spot!
X-WR-RELCALID:38538f39f6358a924c06ef838ef45a51
X-WR-TIMEZONE:America/New_York
BEGIN:VTIMEZONE
TZID:America/New_York
BEGIN:STANDARD
TZNAME:EST
DTSTART:20241103T020000
TZOFFSETFROM:-0400
TZOFFSETTO:-0500
RDATE:20251102T020000
RDATE:20261101T020000
END:STANDARD
BEGIN:DAYLIGHT
TZNAME:EDT
DTSTART:20250309T020000
TZOFFSETFROM:-0500
TZOFFSETTO:-0400
RDATE:20260308T020000
END:DAYLIGHT
END:VTIMEZONE
BEGIN:VEVENT
UID:3fa10ee0-e2cd-46bc-a7e3-c5b619b18d54
DTSTAMP:20260421T225119Z
DESCRIPTION:Saturday\, August 16\, 2025\n9:30 am - 12:30 pm\n\nThis class m
 eets the OCFS requirements for CPR and First Aid for child care providers.
 \n\nTrainer: Scott Kohn\, Certified First Aid/CPR Instructor\n\nThe cost f
 or the class is $100 per person and is not EIP eligible.\n\nTHIS CLASS IS 
 LIMITED TO 20 PEOPLE ONLY. Register early to reserve your spot!
DTSTART;TZID=America/New_York:20250816T093000
DTEND;TZID=America/New_York:20250816T123000
LOCATION:301 Manchester Rd. Suite 201A\, Poughkeepse\, NY 12603 US
SUMMARY:First Aid/CPR/AED
END:VEVENT
END:VCALENDAR
