BEGIN:VCALENDAR
VERSION:2.0
PRODID:-//www.childcaredutchess.org//NONSGML kigkonsult.se iCalcreator 2.30
 .10//
CALSCALE:GREGORIAN
METHOD:PUBLISH
UID:2b48b32a-d11f-4f29-a6cb-4a188ec4a405
X-WR-CALDESC:Calling all Day Care Center & School Age Child Care directors!
  Step into a powerful new space built just for YOU!\n\nWhether you're a se
 asoned director or just starting out\, the Directors Network is where your
  leadership journey finds its people.\n\nLet’s grow stronger — together.\n
 \nObjectives:\n\nBuild Meaningful Connections with fellow leaders who unde
 rstand your journey.\nEarn Training Hours through engaging\, relevant\, an
 d high-impact professional development.\nShare Ideas\, Solve Challenges an
 d gain fresh perspectives from experienced peers.\nStrengthen Your Program
  with resources\, support\, and leadership tools designed for success.\n\n
 This network is appropriate for DCC & SACC\nCost: FREE\n\nTrainer: Wendy C
 ooper\, Director of Professional Development\, CCCDP
X-WR-RELCALID:c33fa45bf727309dbea8519ff7512497
X-WR-TIMEZONE:America/New_York
BEGIN:VTIMEZONE
TZID:America/New_York
BEGIN:STANDARD
TZNAME:EST
DTSTART:20251102T020000
TZOFFSETFROM:-0400
TZOFFSETTO:-0500
RDATE:20261101T020000
END:STANDARD
BEGIN:DAYLIGHT
TZNAME:EDT
DTSTART:20250309T020000
TZOFFSETFROM:-0500
TZOFFSETTO:-0400
RDATE:20260308T020000
RDATE:20270314T020000
END:DAYLIGHT
END:VTIMEZONE
BEGIN:VEVENT
UID:8e2b9969-68dd-4bca-a9cd-8bd2b33954e6
DTSTAMP:20260421T015537Z
DESCRIPTION:Calling all Day Care Center & School Age Child Care directors! 
 Step into a powerful new space built just for YOU!\n\nWhether you're a sea
 soned director or just starting out\, the Directors Network is where your 
 leadership journey finds its people.\n\nLet’s grow stronger — together.\n
 \nObjectives:\n\nBuild Meaningful Connections with fellow leaders who unde
 rstand your journey.\nEarn Training Hours through engaging\, relevant\, an
 d high-impact professional development.\nShare Ideas\, Solve Challenges an
 d gain fresh perspectives from experienced peers.\nStrengthen Your Program
  with resources\, support\, and leadership tools designed for success.\n\n
 This network is appropriate for DCC & SACC\nCost: FREE\n\nTrainer: Wendy C
 ooper\, Director of Professional Development\, CCCDP
DTSTART;TZID=America/New_York:20251202T100000
DTEND;TZID=America/New_York:20251202T120000
LOCATION:301 Manchester Rd. Suite 201A\, Poughkeepse\, NY 12603 US
SUMMARY:Directors Network
END:VEVENT
END:VCALENDAR
