BEGIN:VCALENDAR
VERSION:2.0
PRODID:-//www.childcaredutchess.org//NONSGML kigkonsult.se iCalcreator 2.30
 .10//
CALSCALE:GREGORIAN
METHOD:PUBLISH
UID:cba8d952-2824-4f15-95df-fb7201ecc6db
X-WR-CALDESC:Participants will receive a certificate of completion and inte
 ractive training of parenting skills and activities to use every day!\n\nC
 ommunity Educator: Heather Ohlson\, Cornell Cooperative Extension\, Dutche
 ss County\n\n To register : https://www.cceevents.org/e/pase-2-day-intensi
 ve-child-care-council
X-WR-RELCALID:fbabb4b3c6bd29d6d63e166928bce6c6
X-WR-TIMEZONE:America/New_York
BEGIN:VTIMEZONE
TZID:America/New_York
BEGIN:STANDARD
TZNAME:EST
DTSTART:20251102T020000
TZOFFSETFROM:-0400
TZOFFSETTO:-0500
RDATE:20261101T020000
END:STANDARD
BEGIN:DAYLIGHT
TZNAME:EDT
DTSTART:20250309T020000
TZOFFSETFROM:-0500
TZOFFSETTO:-0400
RDATE:20260308T020000
RDATE:20270314T020000
END:DAYLIGHT
END:VTIMEZONE
BEGIN:VEVENT
UID:56c07150-8cc1-4c18-a009-18ba07989642
DTSTAMP:20260421T015358Z
DESCRIPTION:Participants will receive a certificate of completion and inter
 active training of parenting skills and activities to use every day!\n\nCo
 mmunity Educator: Heather Ohlson\, Cornell Cooperative Extension\, Dutches
 s County\n\n To register : https://www.cceevents.org/e/pase-2-day-intensiv
 e-child-care-council
DTSTART;TZID=America/New_York:20251210T173000
DTEND;TZID=America/New_York:20251210T193000
LOCATION:301 Manchester Rd. Suite 201A\, Poughkeepse\, NY 12603 US
SUMMARY:Parent And Support Education
END:VEVENT
END:VCALENDAR
