BEGIN:VCALENDAR
VERSION:2.0
PRODID:-//www.childcaredutchess.org//NONSGML kigkonsult.se iCalcreator 2.30
 .10//
CALSCALE:GREGORIAN
METHOD:PUBLISH
UID:3188dfa4-f8d2-403f-8c4f-c6e1c8b34413
X-WR-CALDESC:\nThis class meets the OCFS requirements for CPR and First Aid
  for child care providers.\n\nTrainer: Scott Kohn\, Certified First Aid/CP
 R Instructor\n\nThe cost for the class is $100 per person and is not EIP e
 ligible.\n\nTHIS CLASS IS LIMITED TO 20 PEOPLE ONLY. Register early to res
 erve your spot!
X-WR-RELCALID:b8eb9e846acfe4474c4778082371bd35
X-WR-TIMEZONE:America/New_York
BEGIN:VTIMEZONE
TZID:America/New_York
BEGIN:STANDARD
TZNAME:EST
DTSTART:20251102T020000
TZOFFSETFROM:-0400
TZOFFSETTO:-0500
RDATE:20261101T020000
END:STANDARD
BEGIN:DAYLIGHT
TZNAME:EDT
DTSTART:20250309T020000
TZOFFSETFROM:-0500
TZOFFSETTO:-0400
RDATE:20260308T020000
RDATE:20270314T020000
END:DAYLIGHT
END:VTIMEZONE
BEGIN:VEVENT
UID:aaf423fb-a7c0-4c4c-922b-342ba2d4f51e
DTSTAMP:20260421T015639Z
DESCRIPTION:\nThis class meets the OCFS requirements for CPR and First Aid 
 for child care providers.\n\nTrainer: Scott Kohn\, Certified First Aid/CPR
  Instructor\n\nThe cost for the class is $100 per person and is not EIP el
 igible.\n\nTHIS CLASS IS LIMITED TO 20 PEOPLE ONLY. Register early to rese
 rve your spot!
DTSTART;TZID=America/New_York:20251213T093000
DTEND;TZID=America/New_York:20251213T123000
LOCATION:301 Manchester Rd. Suite 201A\, Poughkeepse\, NY 12603 US
SUMMARY:First Aid/CPR/AED
END:VEVENT
END:VCALENDAR
