BEGIN:VCALENDAR
VERSION:2.0
PRODID:-//www.childcaredutchess.org//NONSGML kigkonsult.se iCalcreator 2.30
 .10//
CALSCALE:GREGORIAN
METHOD:PUBLISH
UID:7089ba94-4d4f-4fe9-85a4-5444e147e2b0
X-WR-CALDESC:
X-WR-RELCALID:0c19c6bf0e585132fbe98f49fa8fa0d0
X-WR-TIMEZONE:America/New_York
BEGIN:VTIMEZONE
TZID:America/New_York
BEGIN:STANDARD
TZNAME:EST
DTSTART:20251102T020000
TZOFFSETFROM:-0400
TZOFFSETTO:-0500
RDATE:20261101T020000
END:STANDARD
BEGIN:DAYLIGHT
TZNAME:EDT
DTSTART:20250309T020000
TZOFFSETFROM:-0500
TZOFFSETTO:-0400
RDATE:20260308T020000
RDATE:20270314T020000
END:DAYLIGHT
END:VTIMEZONE
BEGIN:VEVENT
UID:a9ef496c-7352-4d59-9224-2f6166e06b5c
DTSTAMP:20260421T015802Z
DESCRIPTION:
DTSTART;TZID=America/New_York:20251225T000000
DTEND;TZID=America/New_York:20251225T235900
LOCATION:
SUMMARY:Child Care Council Closed
END:VEVENT
END:VCALENDAR
