BEGIN:VCALENDAR
VERSION:2.0
PRODID:-//www.childcaredutchess.org//NONSGML kigkonsult.se iCalcreator 2.30
 .10//
CALSCALE:GREGORIAN
METHOD:PUBLISH
UID:7547387b-b9ea-4b12-be47-87a1f1ea6d63
X-WR-CALDESC:How well do you know the OFCS FDC and GFDC regulations? Come t
 est your knowledge and join us in a regulations game night. There will be 
 opportunities to work in groups and individually. There may ne prizes invo
 lved.\n\nTrainer: Darla Fulmer\, Independent NYS T-TAP Certified Trainer\n
 \nOCFS Subject Areas covered: (7) - Statutes and regulations pertaining to
  child abuse and maltreatment\n\nThis training is appropriate for all moda
 lities of care and open to the general public.\n\nTraining fee is $25 per 
 person\n
X-WR-RELCALID:47a905a352ab8a26a9e818d936e74cad
X-WR-TIMEZONE:America/New_York
BEGIN:VTIMEZONE
TZID:America/New_York
BEGIN:STANDARD
TZNAME:EST
DTSTART:20251102T020000
TZOFFSETFROM:-0400
TZOFFSETTO:-0500
RDATE:20261101T020000
END:STANDARD
BEGIN:DAYLIGHT
TZNAME:EDT
DTSTART:20250309T020000
TZOFFSETFROM:-0500
TZOFFSETTO:-0400
RDATE:20260308T020000
RDATE:20270314T020000
END:DAYLIGHT
END:VTIMEZONE
BEGIN:VEVENT
UID:52eed996-37da-49c3-9c12-2e37290f8680
DTSTAMP:20260421T001113Z
DESCRIPTION:How well do you know the OFCS FDC and GFDC regulations? Come te
 st your knowledge and join us in a regulations game night. There will be o
 pportunities to work in groups and individually. There may ne prizes invol
 ved.\n\nTrainer: Darla Fulmer\, Independent NYS T-TAP Certified Trainer\n
 \nOCFS Subject Areas covered: (7) - Statutes and regulations pertaining to
  child abuse and maltreatment\n\nThis training is appropriate for all moda
 lities of care and open to the general public.\n\nTraining fee is $25 per 
 person\n
DTSTART;TZID=America/New_York:20260120T183000
DTEND;TZID=America/New_York:20260120T203000
LOCATION:301 Manchester Rd. Suite 201A\, Poughkeepsie\, NY 12603 US
SUMMARY:Cancelled - Regulation Game Night
END:VEVENT
END:VCALENDAR
