BEGIN:VCALENDAR
VERSION:2.0
PRODID:-//www.childcaredutchess.org//NONSGML kigkonsult.se iCalcreator 2.30
 .10//
CALSCALE:GREGORIAN
METHOD:PUBLISH
UID:2b892622-0ae1-4ecf-8644-f6efc5c6b7de
X-WR-CALDESC:This is a nationally recognized training led by Scott Kohn to 
 discuss a possible active shooter event. Do you have a plan in place? If n
 ot\, we will help and support you creating one.\n\nTrainer: Scott Kohn\, E
 MT-B\, National CPR and First Aid Instructor\n\nThe cost of this training 
 is $20.\nOCFS topics covered include: safety and security.\n\nThis trainin
 g is appropriate for all modalities.
X-WR-RELCALID:b75cb3b7676991a9023fbf3e40b91eec
X-WR-TIMEZONE:America/New_York
BEGIN:VTIMEZONE
TZID:America/New_York
BEGIN:STANDARD
TZNAME:EST
DTSTART:20251102T020000
TZOFFSETFROM:-0400
TZOFFSETTO:-0500
RDATE:20261101T020000
RDATE:20271107T020000
END:STANDARD
BEGIN:DAYLIGHT
TZNAME:EDT
DTSTART:20260308T020000
TZOFFSETFROM:-0500
TZOFFSETTO:-0400
RDATE:20270314T020000
END:DAYLIGHT
END:VTIMEZONE
BEGIN:VEVENT
UID:9c3413c2-c7a5-4fe4-a08c-03f70179bff9
DTSTAMP:20260420T211734Z
DESCRIPTION:This is a nationally recognized training led by Scott Kohn to d
 iscuss a possible active shooter event. Do you have a plan in place? If no
 t\, we will help and support you creating one.\n\nTrainer: Scott Kohn\, EM
 T-B\, National CPR and First Aid Instructor\n\nThe cost of this training i
 s $20.\nOCFS topics covered include: safety and security.\n\nThis training
  is appropriate for all modalities.
DTSTART;TZID=America/New_York:20260519T183000
DTEND;TZID=America/New_York:20260519T200000
LOCATION:301 Manchester Rd. Suite 201A\, Poughkeepse\, NY 12603 US
SUMMARY:Active Shooter Training
END:VEVENT
END:VCALENDAR
