BEGIN:VCALENDAR
VERSION:2.0
PRODID:-//www.childcaredutchess.org//NONSGML kigkonsult.se iCalcreator 2.30
 .10//
CALSCALE:GREGORIAN
METHOD:PUBLISH
UID:b6e9f1df-9324-418b-aa11-b143993e952e
X-WR-CALDESC:Calling all Day Care Center & School Age Child Care directors!
  Step into a powerful new space built just for YOU!\n\nDirectors will part
 icipate in a guided discussion and brainstorming session surrounding topic
 s of interest indicated by current attendees. A complete list of topic are
 as: TBA\n\n Limited seats are available! Sign Up today!\n\nTrainer: Wendy 
 Cooper\, Director of Professional Development\n\nThis network is appropria
 te for DCC & SACC\n\nCost: FREE\n
X-WR-RELCALID:ddf4da0bc950e5088581bd2728dffe2e
X-WR-TIMEZONE:America/New_York
BEGIN:VTIMEZONE
TZID:America/New_York
BEGIN:STANDARD
TZNAME:EST
DTSTART:20251102T020000
TZOFFSETFROM:-0400
TZOFFSETTO:-0500
RDATE:20261101T020000
RDATE:20271107T020000
END:STANDARD
BEGIN:DAYLIGHT
TZNAME:EDT
DTSTART:20260308T020000
TZOFFSETFROM:-0500
TZOFFSETTO:-0400
RDATE:20270314T020000
END:DAYLIGHT
END:VTIMEZONE
BEGIN:VEVENT
UID:92bc7ce4-2172-431b-a3dd-6d3aaff9c6f8
DTSTAMP:20260420T230101Z
DESCRIPTION:Calling all Day Care Center & School Age Child Care directors! 
 Step into a powerful new space built just for YOU!\n\nDirectors will parti
 cipate in a guided discussion and brainstorming session surrounding topics
  of interest indicated by current attendees. A complete list of topic area
 s: TBA\n\n Limited seats are available! Sign Up today!\n\nTrainer: Wendy C
 ooper\, Director of Professional Development\n\nThis network is appropriat
 e for DCC & SACC\n\nCost: FREE\n
DTSTART;TZID=America/New_York:20260602T100000
DTEND;TZID=America/New_York:20260602T120000
LOCATION:301 Manchester Rd. Suite 201A\, Poughkeepse\, NY 12603 US
SUMMARY:Directors Network - Networking Event
END:VEVENT
END:VCALENDAR
