BEGIN:VCALENDAR
VERSION:2.0
PRODID:-//www.childcaredutchess.org//NONSGML kigkonsult.se iCalcreator 2.30
 .10//
CALSCALE:GREGORIAN
METHOD:PUBLISH
UID:ef1ef4f4-6ae8-4b70-87a5-16ce22383e4d
X-WR-CALDESC:\nThis class meets the OCFS requirements for CPR and First Aid
  for child care providers.\n\nTrainer: Scott Kohn\, Certified First Aid/CP
 R Instructor\n\nThe cost for the class is $100 per person and is not EIP e
 ligible.\n\nTHIS CLASS IS LIMITED TO 20 PEOPLE ONLY. Register early to res
 erve your spot!
X-WR-RELCALID:70b9dbe41b241c6d1e68307ef20cb612
X-WR-TIMEZONE:America/New_York
BEGIN:VTIMEZONE
TZID:America/New_York
BEGIN:STANDARD
TZNAME:EST
DTSTART:20251102T020000
TZOFFSETFROM:-0400
TZOFFSETTO:-0500
RDATE:20261101T020000
RDATE:20271107T020000
END:STANDARD
BEGIN:DAYLIGHT
TZNAME:EDT
DTSTART:20260308T020000
TZOFFSETFROM:-0500
TZOFFSETTO:-0400
RDATE:20270314T020000
END:DAYLIGHT
END:VTIMEZONE
BEGIN:VEVENT
UID:8faf1db1-957d-4467-93d3-130a8ddce802
DTSTAMP:20260420T225937Z
DESCRIPTION:\nThis class meets the OCFS requirements for CPR and First Aid 
 for child care providers.\n\nTrainer: Scott Kohn\, Certified First Aid/CPR
  Instructor\n\nThe cost for the class is $100 per person and is not EIP el
 igible.\n\nTHIS CLASS IS LIMITED TO 20 PEOPLE ONLY. Register early to rese
 rve your spot!
DTSTART;TZID=America/New_York:20260613T093000
DTEND;TZID=America/New_York:20260613T123000
LOCATION:301 Manchester Rd. Suite 201A\, Poughkeepse\, NY 12603 US
SUMMARY:First Aid/CPR/AED
END:VEVENT
END:VCALENDAR
