BEGIN:VCALENDAR
VERSION:2.0
PRODID:-//www.childcaredutchess.org//NONSGML kigkonsult.se iCalcreator 2.30
 .10//
CALSCALE:GREGORIAN
METHOD:PUBLISH
UID:9d31e380-6566-4e49-8c69-1971f1563a43
X-WR-CALDESC:
X-WR-RELCALID:6bc77592b8b3840c6577cd100b30aff5
X-WR-TIMEZONE:America/New_York
BEGIN:VTIMEZONE
TZID:America/New_York
BEGIN:STANDARD
TZNAME:EST
DTSTART:20261101T020000
TZOFFSETFROM:-0400
TZOFFSETTO:-0500
RDATE:20271107T020000
END:STANDARD
BEGIN:DAYLIGHT
TZNAME:EDT
DTSTART:20260308T020000
TZOFFSETFROM:-0500
TZOFFSETTO:-0400
RDATE:20270314T020000
RDATE:20280312T020000
END:DAYLIGHT
END:VTIMEZONE
BEGIN:VEVENT
UID:08435d48-b68f-46d5-bdae-1e84f7ef6bf5
DTSTAMP:20260421T093531Z
DESCRIPTION:
DTSTART;TZID=America/New_York:20261225T000000
DTEND;TZID=America/New_York:20261225T235900
LOCATION:
SUMMARY:Child Care Council Closed
END:VEVENT
END:VCALENDAR
