BEGIN:VCALENDAR
VERSION:2.0
PRODID:-//www.childcaredutchess.org//NONSGML kigkonsult.se iCalcreator 2.30
 .10//
CALSCALE:GREGORIAN
METHOD:PUBLISH
UID:b74384bd-a837-46c8-b55c-ae1acf1b6512
X-WR-CALDESC:
X-WR-RELCALID:504fac277c1752fbf3e2b565267a4350
X-WR-TIMEZONE:America/New_York
BEGIN:VTIMEZONE
TZID:America/New_York
BEGIN:STANDARD
TZNAME:EST
DTSTART:20271107T020000
TZOFFSETFROM:-0400
TZOFFSETTO:-0500
RDATE:20281105T020000
END:STANDARD
BEGIN:DAYLIGHT
TZNAME:EDT
DTSTART:20270314T020000
TZOFFSETFROM:-0500
TZOFFSETTO:-0400
RDATE:20280312T020000
RDATE:20290311T020000
END:DAYLIGHT
END:VTIMEZONE
BEGIN:VEVENT
UID:7de0b3b6-9195-4393-b55e-48b6746bbcf3
DTSTAMP:20260426T030225Z
DESCRIPTION:
DTSTART;TZID=America/New_York:20271225T000000
DTEND;TZID=America/New_York:20271225T235900
LOCATION:
SUMMARY:Child Care Council Closed
END:VEVENT
END:VCALENDAR
