BEGIN:VCALENDAR
VERSION:2.0
PRODID:-//www.childcaredutchess.org//NONSGML kigkonsult.se iCalcreator 2.30
 .10//
CALSCALE:GREGORIAN
METHOD:PUBLISH
UID:599e3167-9cce-4448-9a9b-784d26c524a0
X-WR-CALDESC:
X-WR-RELCALID:6b4b9dde816e3f3447d8902f6cf59fff
X-WR-TIMEZONE:America/New_York
BEGIN:VTIMEZONE
TZID:America/New_York
BEGIN:STANDARD
TZNAME:EST
DTSTART:20191103T020000
TZOFFSETFROM:-0400
TZOFFSETTO:-0500
RDATE:20201101T020000
END:STANDARD
BEGIN:DAYLIGHT
TZNAME:EDT
DTSTART:20190310T020000
TZOFFSETFROM:-0500
TZOFFSETTO:-0400
RDATE:20200308T020000
RDATE:20210314T020000
END:DAYLIGHT
END:VTIMEZONE
BEGIN:VEVENT
UID:21fc8c08-0e30-40a3-80d5-1252e5a9a432
DTSTAMP:20260423T022516Z
DESCRIPTION:
DTSTART;TZID=America/New_York:20191226T000000
DTEND;TZID=America/New_York:20191226T235900
LOCATION:
SUMMARY:Child Care Council Closed
END:VEVENT
END:VCALENDAR
