BEGIN:VCALENDAR
VERSION:2.0
PRODID:-//www.childcaredutchess.org//NONSGML kigkonsult.se iCalcreator 2.30
 .10//
CALSCALE:GREGORIAN
METHOD:PUBLISH
UID:87bf380e-746d-49a6-af33-4f0e90d2f11b
X-WR-CALDESC:Have you been confused by the changing regulations? Come and r
 eview them with a CCCDP registrar and OCFS licensor. Bring your questions 
 to ask them.\n\nTrainers: Carol Hand\, CCCDP and Stacey Rosborough\, OCFS
 \n\nThe cost of this workshop is $20 partner and $25 non-partner.\nOCFS to
 pics covered include: statutes and regulations pertaining to child day car
 e.
X-WR-RELCALID:e506f5c253db8b9391b317f7fc72b4a4
X-WR-TIMEZONE:America/New_York
BEGIN:VTIMEZONE
TZID:America/New_York
BEGIN:STANDARD
TZNAME:EST
DTSTART:20211107T020000
TZOFFSETFROM:-0400
TZOFFSETTO:-0500
RDATE:20221106T020000
END:STANDARD
BEGIN:DAYLIGHT
TZNAME:EDT
DTSTART:20210314T020000
TZOFFSETFROM:-0500
TZOFFSETTO:-0400
RDATE:20220313T020000
RDATE:20230312T020000
END:DAYLIGHT
END:VTIMEZONE
BEGIN:VEVENT
UID:09ad5eb4-0529-4501-b836-4473c98c5717
DTSTAMP:20260422T084727Z
DESCRIPTION:Have you been confused by the changing regulations? Come and re
 view them with a CCCDP registrar and OCFS licensor. Bring your questions t
 o ask them.\n\nTrainers: Carol Hand\, CCCDP and Stacey Rosborough\, OCFS\n
 \nThe cost of this workshop is $20 partner and $25 non-partner.\nOCFS topi
 cs covered include: statutes and regulations pertaining to child day care.
DTSTART;TZID=America/New_York:20220203T183000
DTEND;TZID=America/New_York:20220203T203000
LOCATION:Child Care Council of Dutchess and Putnam\, Inc.\, 301 Manchester 
 Road\, Suite 201A\, Poughkeepsie\, NY 12603
SUMMARY:CANCELED   Understanding FDC/GFDC Regulations
END:VEVENT
END:VCALENDAR
