BEGIN:VCALENDAR
VERSION:2.0
PRODID:-//www.childcaredutchess.org//NONSGML kigkonsult.se iCalcreator 2.30
 .10//
CALSCALE:GREGORIAN
METHOD:PUBLISH
UID:46de5b25-f749-4579-b36a-968f0fb802c3
X-WR-CALDESC:This Babysitting Course is a valuable course for boys and girl
 s ages 10-16 who are interested in becoming the next neighborhood babysitt
 er. this course will cover topics such as interviewing tips\, communicatio
 n skills\, ages and stages of young babies and toddlers\, safety\, first a
 id\, feeding and caring for young children. Each future babysitter will al
 so learn how to hold a baby and change his/her diaper.\n\nTrainer: Scott K
 ohn\n\nThe cost of this training is $60.00.\nThis training is for boys and
  girls ages 10-16.
X-WR-RELCALID:f77ea3687a2f884a89d88a182b737b8d
X-WR-TIMEZONE:America/New_York
BEGIN:VTIMEZONE
TZID:America/New_York
BEGIN:STANDARD
TZNAME:EST
DTSTART:20231105T020000
TZOFFSETFROM:-0400
TZOFFSETTO:-0500
RDATE:20241103T020000
RDATE:20251102T020000
END:STANDARD
BEGIN:DAYLIGHT
TZNAME:EDT
DTSTART:20240310T020000
TZOFFSETFROM:-0500
TZOFFSETTO:-0400
RDATE:20250309T020000
END:DAYLIGHT
END:VTIMEZONE
BEGIN:VEVENT
UID:769a634f-6f6c-4c88-89e0-0316c2a9f2c0
DTSTAMP:20260421T043013Z
DESCRIPTION:This Babysitting Course is a valuable course for boys and girls
  ages 10-16 who are interested in becoming the next neighborhood babysitte
 r. this course will cover topics such as interviewing tips\, communication
  skills\, ages and stages of young babies and toddlers\, safety\, first ai
 d\, feeding and caring for young children. Each future babysitter will als
 o learn how to hold a baby and change his/her diaper.\n\nTrainer: Scott Ko
 hn\n\nThe cost of this training is $60.00.\nThis training is for boys and 
 girls ages 10-16.
DTSTART;TZID=America/New_York:20240601T110000
DTEND;TZID=America/New_York:20240601T130000
LOCATION:Child Care Council of Dutchess and Putnam\, Inc.\, 301 Manchester 
 Road\, Suite 201A\, Poughkeepsie\, NY 12603
SUMMARY:Babysitting Class
END:VEVENT
END:VCALENDAR
