BEGIN:VCALENDAR
VERSION:2.0
PRODID:-//www.childcaredutchess.org//NONSGML kigkonsult.se iCalcreator 2.30
 .10//
CALSCALE:GREGORIAN
METHOD:PUBLISH
UID:3e89de6b-6cd2-4b75-b7ec-d667c439aedf
X-WR-CALDESC:In this training\, we will discuss the five W's: Who was bit? 
 Who does the biting? Who was supervising the children? What happened befor
 e during and after the incident? Where did the incident occur? When did th
 e incident occur? Why do you believe the incident has occurred or reoccurs
 ? We will also discuss how to document incidents\, implement individualize
 d\, developmentally appropriate responsive care for children in the room b
 y being proactive and creating an atmosphere that caters to the children's
  interests and abilities.\n\nTrainer: Tiffinie Helweg\, Infant Toddler Spe
 cialist\, CCCDP\n\nThe cost of this training is $25.00.\nOCFS topics cover
 ed include: child development and program development.\n\nThis training is
  appropriate for DCC\, FDC\, GFDC providers.
X-WR-RELCALID:57f6ab24a14f5780965000be0b93813f
X-WR-TIMEZONE:America/New_York
BEGIN:VTIMEZONE
TZID:America/New_York
BEGIN:STANDARD
TZNAME:EST
DTSTART:20231105T020000
TZOFFSETFROM:-0400
TZOFFSETTO:-0500
RDATE:20241103T020000
RDATE:20251102T020000
END:STANDARD
BEGIN:DAYLIGHT
TZNAME:EDT
DTSTART:20240310T020000
TZOFFSETFROM:-0500
TZOFFSETTO:-0400
RDATE:20250309T020000
END:DAYLIGHT
END:VTIMEZONE
BEGIN:VEVENT
UID:bba27cb2-7f0a-41f7-83ea-82cc4d6ce45f
DTSTAMP:20260421T042507Z
DESCRIPTION:In this training\, we will discuss the five W's: Who was bit? W
 ho does the biting? Who was supervising the children? What happened before
  during and after the incident? Where did the incident occur? When did the
  incident occur? Why do you believe the incident has occurred or reoccurs?
  We will also discuss how to document incidents\, implement individualized
 \, developmentally appropriate responsive care for children in the room by
  being proactive and creating an atmosphere that caters to the children's 
 interests and abilities.\n\nTrainer: Tiffinie Helweg\, Infant Toddler Spec
 ialist\, CCCDP\n\nThe cost of this training is $25.00.\nOCFS topics covere
 d include: child development and program development.\n\nThis training is 
 appropriate for DCC\, FDC\, GFDC providers.
DTSTART;TZID=America/New_York:20240611T183000
DTEND;TZID=America/New_York:20240611T203000
LOCATION:301 Manchester Rd.\, Suite 201A\, Poughkeepsie\, NY 12603 US
SUMMARY:The Five W's of Biting
END:VEVENT
END:VCALENDAR
