BEGIN:VCALENDAR
VERSION:2.0
PRODID:-//www.childcaredutchess.org//NONSGML kigkonsult.se iCalcreator 2.30
 .10//
CALSCALE:GREGORIAN
METHOD:PUBLISH
UID:71af8778-560d-4efa-a552-ab31e9e6c95f
X-WR-CALDESC:This three hour training session follows up on the 101 - Level
  Adverse Childhood Experiences. Participants will begin to learn foundatio
 nal skills in adult regulation to support science-based interventions. Par
 ticipants will be able to define resilience\, compare stress behavior to m
 isbehavior\, practice co-regulation skills\, and begin to breakdown compon
 ents of a trauma informed workplace.\n\nTrainers: Kathleen Murphy and Tiff
 inie Helweg\, CCCDP\n\nThe cost of this training is $35.00.\nOCFS topics c
 overed include: (10) adverse childhood experiences.\n\nThis training is ap
 propriate for all modalities.
X-WR-RELCALID:afe1cac115aa0589853e7ff82c893d42
X-WR-TIMEZONE:America/New_York
BEGIN:VTIMEZONE
TZID:America/New_York
BEGIN:STANDARD
TZNAME:EST
DTSTART:20231105T020000
TZOFFSETFROM:-0400
TZOFFSETTO:-0500
RDATE:20241103T020000
RDATE:20251102T020000
END:STANDARD
BEGIN:DAYLIGHT
TZNAME:EDT
DTSTART:20240310T020000
TZOFFSETFROM:-0500
TZOFFSETTO:-0400
RDATE:20250309T020000
END:DAYLIGHT
END:VTIMEZONE
BEGIN:VEVENT
UID:7ebc89bb-4102-4d8c-91f3-a2e1e099bc67
DTSTAMP:20260421T061234Z
DESCRIPTION:This three hour training session follows up on the 101 - Level 
 Adverse Childhood Experiences. Participants will begin to learn foundation
 al skills in adult regulation to support science-based interventions. Part
 icipants will be able to define resilience\, compare stress behavior to mi
 sbehavior\, practice co-regulation skills\, and begin to breakdown compone
 nts of a trauma informed workplace.\n\nTrainers: Kathleen Murphy and Tiffi
 nie Helweg\, CCCDP\n\nThe cost of this training is $35.00.\nOCFS topics co
 vered include: (10) adverse childhood experiences.\n\nThis training is app
 ropriate for all modalities.
DTSTART;TZID=America/New_York:20240713T090000
DTEND;TZID=America/New_York:20240713T120000
LOCATION:301 Manchester Rd.\, Suite 201A\, Poughkeepsie\, NY 12603 US
SUMMARY:201 - Level Adverse Childhood Experiences (ACEs)
END:VEVENT
END:VCALENDAR
