BEGIN:VCALENDAR
VERSION:2.0
PRODID:-//www.childcaredutchess.org//NONSGML kigkonsult.se iCalcreator 2.30
 .10//
CALSCALE:GREGORIAN
METHOD:PUBLISH
UID:6907316d-c33e-41dd-9f36-bc67bc6f7d1e
X-WR-CALDESC:In this training participants will learn the origin of loose p
 arts play\, the benefits to loose parts play\, safety\, explore play invit
 ations and strategies to implement loose parts play into your program.\n\n
 Trainer: Wendy Cooper\, Professional Development Coordinator\, CCCDP & Reg
 istrar\n\nThe cost of this training is $25.00 per person.\nOCFS topics cov
 ered include: Principals of Child Development & Child Program Development
 \n\nThis training is appropriate for all modalities.
X-WR-RELCALID:3dbab9da30d13a331e777268c1bcd0c2
X-WR-TIMEZONE:America/New_York
BEGIN:VTIMEZONE
TZID:America/New_York
BEGIN:STANDARD
TZNAME:EST
DTSTART:20231105T020000
TZOFFSETFROM:-0400
TZOFFSETTO:-0500
RDATE:20241103T020000
RDATE:20251102T020000
END:STANDARD
BEGIN:DAYLIGHT
TZNAME:EDT
DTSTART:20240310T020000
TZOFFSETFROM:-0500
TZOFFSETTO:-0400
RDATE:20250309T020000
END:DAYLIGHT
END:VTIMEZONE
BEGIN:VEVENT
UID:e51dbcd0-fc35-4f60-af41-3a041a90692d
DTSTAMP:20260421T062747Z
DESCRIPTION:In this training participants will learn the origin of loose pa
 rts play\, the benefits to loose parts play\, safety\, explore play invita
 tions and strategies to implement loose parts play into your program.\n\nT
 rainer: Wendy Cooper\, Professional Development Coordinator\, CCCDP & Regi
 strar\n\nThe cost of this training is $25.00 per person.\nOCFS topics cove
 red include: Principals of Child Development & Child Program Development\n
 \nThis training is appropriate for all modalities.
DTSTART;TZID=America/New_York:20240716T183000
DTEND;TZID=America/New_York:20240716T203000
LOCATION:301 Manchester Rd.\, Poughkeepsie\, NY 12603 US
SUMMARY:CANCELLED - Building Blocks of Creativity: Empowering Loose Parts P
 lay
END:VEVENT
END:VCALENDAR
