BEGIN:VCALENDAR
VERSION:2.0
PRODID:-//www.childcaredutchess.org//NONSGML kigkonsult.se iCalcreator 2.30
 .10//
CALSCALE:GREGORIAN
METHOD:PUBLISH
UID:df4599e0-ccae-4b73-ac67-46ff5bb466a0
X-WR-CALDESC:What is an Individual Health Care Plan? Why do we need them? W
 ho needs one? This training will teach you how to create a proper plan tha
 t follows NYS regulations and to ensure each child with a special health c
 are need receives the highest quality of care.\n\nTrainers: Sarah Barnish 
 and Marianne Squazzo\, Acorns to Oaks\n\nThe cost of this training is $25 
 per person.\nOCFS topics covered include: health and nutrition\, statutes 
 and regulations pertaining to child care.\n\nThis training is appropriate 
 for all modalities.   \n
X-WR-RELCALID:b0d4fb66af14734465baf354183ecbe7
X-WR-TIMEZONE:America/New_York
BEGIN:VTIMEZONE
TZID:America/New_York
BEGIN:STANDARD
TZNAME:EST
DTSTART:20231105T020000
TZOFFSETFROM:-0400
TZOFFSETTO:-0500
RDATE:20241103T020000
RDATE:20251102T020000
END:STANDARD
BEGIN:DAYLIGHT
TZNAME:EDT
DTSTART:20240310T020000
TZOFFSETFROM:-0500
TZOFFSETTO:-0400
RDATE:20250309T020000
END:DAYLIGHT
END:VTIMEZONE
BEGIN:VEVENT
UID:6230e76d-1fef-4b8f-b5b7-2ad0264a22b3
DTSTAMP:20260421T060819Z
DESCRIPTION:What is an Individual Health Care Plan? Why do we need them? Wh
 o needs one? This training will teach you how to create a proper plan that
  follows NYS regulations and to ensure each child with a special health ca
 re need receives the highest quality of care.\n\nTrainers: Sarah Barnish a
 nd Marianne Squazzo\, Acorns to Oaks\n\nThe cost of this training is $25 p
 er person.\nOCFS topics covered include: health and nutrition\, statutes a
 nd regulations pertaining to child care.\n\nThis training is appropriate f
 or all modalities.   \n
DTSTART;TZID=America/New_York:20240718T183000
DTEND;TZID=America/New_York:20240718T203000
LOCATION:301 Manchester Rd.\, Poughkeepsie\, NY 12603 US
SUMMARY:CANCELLED - Helping Your Program Stay Up-to-date with Individual He
 alth Care Plans and Allergy/Anaphylaxis Plans
END:VEVENT
END:VCALENDAR
