BEGIN:VCALENDAR
VERSION:2.0
PRODID:-//www.childcaredutchess.org//NONSGML kigkonsult.se iCalcreator 2.30
 .10//
CALSCALE:GREGORIAN
METHOD:PUBLISH
UID:0c6d9f8b-fb88-492e-bdea-a9579980ca2b
X-WR-CALDESC:In this hands on training learn the differences of process ver
 sus product in creative art.  Participants will learn and participate in a
 ctivities for children ranging from infant/toddler through school age as w
 ell as an introduction into collaborative art in the classroom.\n\nTrainer
 : Wendy Cooper\, Director of Professional Development\n\nThe cost of this 
 training is $25.00 per person.\nOCFS topics covered include: Principals of
  Child Development & Child Day Care Development\n\nThis training is approp
 riate for all modalities.
X-WR-RELCALID:45dd875f821f0ccc59118dd303de6697
X-WR-TIMEZONE:America/New_York
BEGIN:VTIMEZONE
TZID:America/New_York
BEGIN:STANDARD
TZNAME:EST
DTSTART:20231105T020000
TZOFFSETFROM:-0400
TZOFFSETTO:-0500
RDATE:20241103T020000
RDATE:20251102T020000
END:STANDARD
BEGIN:DAYLIGHT
TZNAME:EDT
DTSTART:20240310T020000
TZOFFSETFROM:-0500
TZOFFSETTO:-0400
RDATE:20250309T020000
END:DAYLIGHT
END:VTIMEZONE
BEGIN:VEVENT
UID:1cf5f28f-ad45-4fc2-a860-5c3cdeb64aaa
DTSTAMP:20260421T061412Z
DESCRIPTION:In this hands on training learn the differences of process vers
 us product in creative art.  Participants will learn and participate in ac
 tivities for children ranging from infant/toddler through school age as we
 ll as an introduction into collaborative art in the classroom.\n\nTrainer:
  Wendy Cooper\, Director of Professional Development\n\nThe cost of this t
 raining is $25.00 per person.\nOCFS topics covered include: Principals of 
 Child Development & Child Day Care Development\n\nThis training is appropr
 iate for all modalities.
DTSTART;TZID=America/New_York:20240730T183000
DTEND;TZID=America/New_York:20240730T203000
LOCATION:301 Manchester Rd. Suite 201A\, Poughkeepsie\, NY 12603 US
SUMMARY:Art in Motion: Embracing the Process
END:VEVENT
END:VCALENDAR
