BEGIN:VCALENDAR
VERSION:2.0
PRODID:-//www.childcaredutchess.org//NONSGML kigkonsult.se iCalcreator 2.30
 .10//
CALSCALE:GREGORIAN
METHOD:PUBLISH
UID:214543c4-159f-4f82-9ba3-6b8d0a7f019b
X-WR-CALDESC:Participants will view Tom Copeland' DVD: The Business of Fami
 ly Child Care Contracts & Policies. This video can help participants under
 stand how to establish a good business relationship with the families they
  serve by creating clear contracts and policies and enforcing them fairly.
  Following the video\, participants and the trainer will discuss what was 
 learned and next steps.\nThis training is for FDC and GFDC providers.
X-WR-RELCALID:2441c3281bbd418f906701a11cb53b66
X-WR-TIMEZONE:America/New_York
BEGIN:VTIMEZONE
TZID:America/New_York
BEGIN:STANDARD
TZNAME:EST
DTSTART:20231105T020000
TZOFFSETFROM:-0400
TZOFFSETTO:-0500
RDATE:20241103T020000
RDATE:20251102T020000
END:STANDARD
BEGIN:DAYLIGHT
TZNAME:EDT
DTSTART:20240310T020000
TZOFFSETFROM:-0500
TZOFFSETTO:-0400
RDATE:20250309T020000
END:DAYLIGHT
END:VTIMEZONE
BEGIN:VEVENT
UID:a7c2c6b5-bbe0-49e4-b798-4b5c3f0c6de3
DTSTAMP:20260421T075917Z
DESCRIPTION:Participants will view Tom Copeland' DVD: The Business of Famil
 y Child Care Contracts & Policies. This video can help participants unders
 tand how to establish a good business relationship with the families they 
 serve by creating clear contracts and policies and enforcing them fairly. 
 Following the video\, participants and the trainer will discuss what was l
 earned and next steps.\nThis training is for FDC and GFDC providers.
DTSTART;TZID=America/New_York:20240810T090000
DTEND;TZID=America/New_York:20240810T110000
LOCATION:301 Manchester Rd. Suite 201A\, Poughkeepsie\, NY 12603 US
SUMMARY:Tom Copeland's Contracts & Policies
END:VEVENT
END:VCALENDAR
