BEGIN:VCALENDAR
VERSION:2.0
PRODID:-//www.childcaredutchess.org//NONSGML kigkonsult.se iCalcreator 2.30
 .10//
CALSCALE:GREGORIAN
METHOD:PUBLISH
UID:2a8ff06e-d350-4418-a89f-eb2d9660fc93
X-WR-CALDESC:In this training we will discuss children's social-emotional c
 apabilities in terms of personality\, stages of development\, egocentrism\
 , theory of mind\, and individual experiences. We will discuss strategies 
 for providers to help co-regulate with children enrolled in their programs
 .\n\nWe will also discuss DAP and how to plan the curriculum for the class
 room/group\, but with any necessary modifications in place to support the 
 individual's needs and interests. We will explore regulatory requirements 
 when program planning. \n\nTrainer: Tiffinie Helweg\, Infant/Toddler Speci
 alist\, CCCDP\n\nOCFS Topic areas include: (1) Principles of Childhood Dev
 elopment\, (3) Child Day Care Program Development and (7) Statutes and Reg
 ulations Pertaining to Child Day Care \n\nThis training is appropriate for
  all modalities.\n\n6:30 PM - 8:30 PM    Cost of this training is $25.00 p
 er person
X-WR-RELCALID:af6f5323692323d108ad7f61f393c16b
X-WR-TIMEZONE:America/New_York
BEGIN:VTIMEZONE
TZID:America/New_York
BEGIN:STANDARD
TZNAME:EST
DTSTART:20231105T020000
TZOFFSETFROM:-0400
TZOFFSETTO:-0500
RDATE:20241103T020000
RDATE:20251102T020000
END:STANDARD
BEGIN:DAYLIGHT
TZNAME:EDT
DTSTART:20240310T020000
TZOFFSETFROM:-0500
TZOFFSETTO:-0400
RDATE:20250309T020000
END:DAYLIGHT
END:VTIMEZONE
BEGIN:VEVENT
UID:40e21e67-63d4-4c56-9f94-d85774dd2fce
DTSTAMP:20260421T075657Z
DESCRIPTION:In this training we will discuss children's social-emotional ca
 pabilities in terms of personality\, stages of development\, egocentrism\,
  theory of mind\, and individual experiences. We will discuss strategies f
 or providers to help co-regulate with children enrolled in their programs.
 \n\nWe will also discuss DAP and how to plan the curriculum for the classr
 oom/group\, but with any necessary modifications in place to support the i
 ndividual's needs and interests. We will explore regulatory requirements w
 hen program planning. \n\nTrainer: Tiffinie Helweg\, Infant/Toddler Specia
 list\, CCCDP\n\nOCFS Topic areas include: (1) Principles of Childhood Deve
 lopment\, (3) Child Day Care Program Development and (7) Statutes and Regu
 lations Pertaining to Child Day Care \n\nThis training is appropriate for 
 all modalities.\n\n6:30 PM - 8:30 PM    Cost of this training is $25.00 pe
 r person
DTSTART;TZID=America/New_York:20240813T183000
DTEND;TZID=America/New_York:20240813T203000
LOCATION:301 Manchester Rd. Suite 201A\, Poughkeepsie\, NY 12603 US
SUMMARY:Age-Appropriate Expectations
END:VEVENT
END:VCALENDAR
