BEGIN:VCALENDAR
VERSION:2.0
PRODID:-//www.childcaredutchess.org//NONSGML kigkonsult.se iCalcreator 2.30
 .10//
CALSCALE:GREGORIAN
METHOD:PUBLISH
UID:f4614f16-9593-4823-b2d3-1bbce1832b08
X-WR-CALDESC:Music and movement have the unique ability to engage the entir
 e brain\, nurturing every area of growth and development. Together we will
  learn the science behind these benefits and explore how you can use music
  and movement in your classroom. Get ready to sing and dance along as we e
 xplore how music and movement nurture three big developmental areas: \n•	So
 cial and emotional development\n•	Gross and fine motor skills\n•	Language\, 
 communication\, and literacy\nCaregivers of children from birth through tw
 elve years of age will gain musical teaching tools - no musical experience
  or “skills” required! \n\n\nTrainer: Rachel Beard\, Founder & Director at
  The Harmony Garden Music Center\, Inc.\n\nThe cost of this training is $2
 5.00 per person.\nOCFS topics covered include: Principals of Child Develop
 ment & Child Day Care Development\n\nThis training is appropriate for all 
 modalities.
X-WR-RELCALID:7bb063a7bce8743213408fccd3cc32c9
X-WR-TIMEZONE:America/New_York
BEGIN:VTIMEZONE
TZID:America/New_York
BEGIN:STANDARD
TZNAME:EST
DTSTART:20231105T020000
TZOFFSETFROM:-0400
TZOFFSETTO:-0500
RDATE:20241103T020000
RDATE:20251102T020000
END:STANDARD
BEGIN:DAYLIGHT
TZNAME:EDT
DTSTART:20240310T020000
TZOFFSETFROM:-0500
TZOFFSETTO:-0400
RDATE:20250309T020000
END:DAYLIGHT
END:VTIMEZONE
BEGIN:VEVENT
UID:288879cb-e965-4c17-8be5-a3b40c5ddbf2
DTSTAMP:20260421T080038Z
DESCRIPTION:Music and movement have the unique ability to engage the entire
  brain\, nurturing every area of growth and development. Together we will 
 learn the science behind these benefits and explore how you can use music 
 and movement in your classroom. Get ready to sing and dance along as we ex
 plore how music and movement nurture three big developmental areas: \n•	Soc
 ial and emotional development\n•	Gross and fine motor skills\n•	Language\, c
 ommunication\, and literacy\nCaregivers of children from birth through twe
 lve years of age will gain musical teaching tools - no musical experience 
 or “skills” required! \n\n\nTrainer: Rachel Beard\, Founder & Director at 
 The Harmony Garden Music Center\, Inc.\n\nThe cost of this training is $25
 .00 per person.\nOCFS topics covered include: Principals of Child Developm
 ent & Child Day Care Development\n\nThis training is appropriate for all m
 odalities.
DTSTART;TZID=America/New_York:20240815T183000
DTEND;TZID=America/New_York:20240815T203000
LOCATION:301 Manchester Rd. Suite 201A\, Poughkeepsie\, NY 12603 US
SUMMARY:CANCELLED - Music & Movement: Superfood for the Child's Brain
END:VEVENT
END:VCALENDAR
