BEGIN:VCALENDAR
VERSION:2.0
PRODID:-//www.childcaredutchess.org//NONSGML kigkonsult.se iCalcreator 2.30
 .10//
CALSCALE:GREGORIAN
METHOD:PUBLISH
UID:c1ed1123-030c-460e-ad32-26190f02498f
X-WR-CALDESC:Monday\, August 26\, 2024     'Regulations 101: SACC'\n\nDive 
 into school-age regulations in this training.  Talk to registrars regardin
 g what to expect when inspected and become proficient in NYS SACC regulati
 ons with this in depth\, but fun way to explore and navigate regulations.
 \n\nTrainer: Brianna Vigliotti\, Registrar\, CCCDP\n\nOCFS topics covered 
 include: (7) Statutes and Regulations Pertaining to Child Day Care and (8)
  Statutes and Regulations Pertaining to Child Abuse and Maltreatment\n\nTh
 is training is appropriate for SACC.\n\nTrainer: Brianna Vigliotti\, Regis
 trar\, CCCDP\n\nThe cost of this training is $25.00 per person.\nOCFS topi
 cs covered include: \n\nThis training is appropriate for SACC
X-WR-RELCALID:6a05868719a6031ae605afe816ce0fe3
X-WR-TIMEZONE:America/New_York
BEGIN:VTIMEZONE
TZID:America/New_York
BEGIN:STANDARD
TZNAME:EST
DTSTART:20231105T020000
TZOFFSETFROM:-0400
TZOFFSETTO:-0500
RDATE:20241103T020000
RDATE:20251102T020000
END:STANDARD
BEGIN:DAYLIGHT
TZNAME:EDT
DTSTART:20240310T020000
TZOFFSETFROM:-0500
TZOFFSETTO:-0400
RDATE:20250309T020000
END:DAYLIGHT
END:VTIMEZONE
BEGIN:VEVENT
UID:19d24f80-0a8a-4284-aec1-6fce7e65a30c
DTSTAMP:20260421T075446Z
DESCRIPTION:Monday\, August 26\, 2024     'Regulations 101: SACC'\n\nDive i
 nto school-age regulations in this training.  Talk to registrars regarding
  what to expect when inspected and become proficient in NYS SACC regulatio
 ns with this in depth\, but fun way to explore and navigate regulations.\n
 \nTrainer: Brianna Vigliotti\, Registrar\, CCCDP\n\nOCFS topics covered in
 clude: (7) Statutes and Regulations Pertaining to Child Day Care and (8) S
 tatutes and Regulations Pertaining to Child Abuse and Maltreatment\n\nThis
  training is appropriate for SACC.\n\nTrainer: Brianna Vigliotti\, Registr
 ar\, CCCDP\n\nThe cost of this training is $25.00 per person.\nOCFS topics
  covered include: \n\nThis training is appropriate for SACC
DTSTART;TZID=America/New_York:20240826T183000
DTEND;TZID=America/New_York:20240826T203000
LOCATION:301 Manchester Rd. Suite 201A\, Poughkeepsie\, AL 12603 US
SUMMARY:CANCELLED - Regulations 101: SACC
END:VEVENT
END:VCALENDAR
