BEGIN:VCALENDAR
VERSION:2.0
PRODID:-//www.childcaredutchess.org//NONSGML kigkonsult.se iCalcreator 2.30
 .10//
CALSCALE:GREGORIAN
METHOD:PUBLISH
UID:6462a280-7556-42a9-9359-54e45405e399
X-WR-CALDESC:This class meets the OCFS requirements for CPR and First Aid f
 or child care providers. \n\nTrainer: Scott Kohn\, EMT-B\, National CPR an
 d First Aid Instructor\n\nThe cost for the class is $75 per person and is 
 not EIP eligible.\n\nTHIS CLASS IS LIMITED TO 20 PEOPLE ONLY. Register ear
 ly to reserve your spot!
X-WR-RELCALID:05ac9d7a369b9dcc0644ef3e1357a0d7
X-WR-TIMEZONE:America/New_York
BEGIN:VTIMEZONE
TZID:America/New_York
BEGIN:STANDARD
TZNAME:EST
DTSTART:20231105T020000
TZOFFSETFROM:-0400
TZOFFSETTO:-0500
RDATE:20241103T020000
RDATE:20251102T020000
END:STANDARD
BEGIN:DAYLIGHT
TZNAME:EDT
DTSTART:20240310T020000
TZOFFSETFROM:-0500
TZOFFSETTO:-0400
RDATE:20250309T020000
RDATE:20260308T020000
END:DAYLIGHT
END:VTIMEZONE
BEGIN:VEVENT
UID:84ba8ed2-1272-4a28-88b2-e86e5e16b9ef
DTSTAMP:20260421T093844Z
DESCRIPTION:This class meets the OCFS requirements for CPR and First Aid fo
 r child care providers. \n\nTrainer: Scott Kohn\, EMT-B\, National CPR and
  First Aid Instructor\n\nThe cost for the class is $75 per person and is n
 ot EIP eligible.\n\nTHIS CLASS IS LIMITED TO 20 PEOPLE ONLY. Register earl
 y to reserve your spot!
DTSTART;TZID=America/New_York:20240907T093000
DTEND;TZID=America/New_York:20240907T123000
LOCATION:The Child Care Council of Dutchess & Putnam\, Inc.\,  301 Manchest
 er Road\, Suite 201A\,  Poughkeepsie\, NY 12603
SUMMARY:Infant/Child/Adult CPR/First Aid/ AED
END:VEVENT
END:VCALENDAR
