BEGIN:VCALENDAR
VERSION:2.0
PRODID:-//www.childcaredutchess.org//NONSGML kigkonsult.se iCalcreator 2.30
 .10//
CALSCALE:GREGORIAN
METHOD:PUBLISH
UID:14f602d9-bf43-43d1-ad1b-80f7d257f0ea
X-WR-CALDESC:During a typical day\, you may face several incidences of “mis
 taken” or “challenging” behaviors. In this training\, we will discuss why 
 they may be occurring and what you can do to decrease them. Young children
  “act out” for a reason. It is up to the caregivers to figure out that rea
 son. We will discuss the development of the child and the expectation of t
 hat age\, and how to help toddlers and preschoolers identify and cope with
  the feelings they are having. How does the environment affect their behav
 iors? We will explore external factors that could also be causing/affectin
 g the challenging behavior.  \n\nTrainer: Darla Fulmer\n\nThe cost of this
  training is: $25 per person\nOCFS topics covered: (1) Child development &
  (3) Program development\n\nThis training is appropriate for all modalitie
 s.\n
X-WR-RELCALID:857c3a136ac672869f214e2037121737
X-WR-TIMEZONE:America/New_York
BEGIN:VTIMEZONE
TZID:America/New_York
BEGIN:STANDARD
TZNAME:EST
DTSTART:20231105T020000
TZOFFSETFROM:-0400
TZOFFSETTO:-0500
RDATE:20241103T020000
RDATE:20251102T020000
END:STANDARD
BEGIN:DAYLIGHT
TZNAME:EDT
DTSTART:20240310T020000
TZOFFSETFROM:-0500
TZOFFSETTO:-0400
RDATE:20250309T020000
RDATE:20260308T020000
END:DAYLIGHT
END:VTIMEZONE
BEGIN:VEVENT
UID:6e9a5db1-b9a1-41ff-a3b0-cff463b28f33
DTSTAMP:20260421T093700Z
DESCRIPTION:During a typical day\, you may face several incidences of “mist
 aken” or “challenging” behaviors. In this training\, we will discuss why t
 hey may be occurring and what you can do to decrease them. Young children 
 “act out” for a reason. It is up to the caregivers to figure out that reas
 on. We will discuss the development of the child and the expectation of th
 at age\, and how to help toddlers and preschoolers identify and cope with 
 the feelings they are having. How does the environment affect their behavi
 ors? We will explore external factors that could also be causing/affecting
  the challenging behavior.  \n\nTrainer: Darla Fulmer\n\nThe cost of this 
 training is: $25 per person\nOCFS topics covered: (1) Child development & 
 (3) Program development\n\nThis training is appropriate for all modalities
 .\n
DTSTART;TZID=America/New_York:20240911T183000
DTEND;TZID=America/New_York:20240911T203000
LOCATION:301 Manchester Rd.\, Suite 201A\, Poughkeepsie\, NY 12603 US
SUMMARY:Control the Climate\, Not the Child
END:VEVENT
END:VCALENDAR
