BEGIN:VCALENDAR
VERSION:2.0
PRODID:-//www.childcaredutchess.org//NONSGML kigkonsult.se iCalcreator 2.30
 .10//
CALSCALE:GREGORIAN
METHOD:PUBLISH
UID:8e303d27-800b-4810-af1c-6f020c464940
X-WR-CALDESC:Participants in this training will learn the value of developi
 ng a budget and how to use it for decision-making throughout the year. The
 y will also understand how to project business costs\, generate additional
  in come and plan strategically for future goals. Participants are strongl
 y encouraged to bring their budgets\, if they have them\, to this training
  (not a requirement to have one). \n\nThis training is FREE.\n\nTrainer: K
 athleen Murphy\, Director of Business Services\, CCCDP\n\nThis training is
  for FDC and GFDC Providers and satisfies NYS OCFS topic areas: (5) Busine
 ss Record Maintenance and Management
X-WR-RELCALID:9b850b66f929ce19bbadec4a27c599d1
X-WR-TIMEZONE:America/New_York
BEGIN:VTIMEZONE
TZID:America/New_York
BEGIN:STANDARD
TZNAME:EST
DTSTART:20231105T020000
TZOFFSETFROM:-0400
TZOFFSETTO:-0500
RDATE:20241103T020000
RDATE:20251102T020000
END:STANDARD
BEGIN:DAYLIGHT
TZNAME:EDT
DTSTART:20240310T020000
TZOFFSETFROM:-0500
TZOFFSETTO:-0400
RDATE:20250309T020000
RDATE:20260308T020000
END:DAYLIGHT
END:VTIMEZONE
BEGIN:VEVENT
UID:5a78eada-1d8d-4038-8709-b002d443a841
DTSTAMP:20260421T093758Z
DESCRIPTION:Participants in this training will learn the value of developin
 g a budget and how to use it for decision-making throughout the year. They
  will also understand how to project business costs\, generate additional 
 in come and plan strategically for future goals. Participants are strongly
  encouraged to bring their budgets\, if they have them\, to this training 
 (not a requirement to have one). \n\nThis training is FREE.\n\nTrainer: Ka
 thleen Murphy\, Director of Business Services\, CCCDP\n\nThis training is 
 for FDC and GFDC Providers and satisfies NYS OCFS topic areas: (5) Busines
 s Record Maintenance and Management
DTSTART;TZID=America/New_York:20240921T060000
DTEND;TZID=America/New_York:20240921T060001
LOCATION:301 Manchester Rd. Suite 201A\, Poughkeepsie\, NY 12603 US
SUMMARY:Strengthening Fiscal Management for Child Care Programs: Budget\, P
 rojects & Planning
END:VEVENT
END:VCALENDAR
