BEGIN:VCALENDAR
VERSION:2.0
PRODID:-//www.childcaredutchess.org//NONSGML kigkonsult.se iCalcreator 2.30
 .10//
CALSCALE:GREGORIAN
METHOD:PUBLISH
UID:c8d777ef-02dc-4f3b-bb47-b41322cdf3a1
X-WR-CALDESC:During this three hour training we will review best practices 
 related to recruiting\, interviewing\, and hiring new employees\; discuss 
 a framework for building an effective orientation plan for new employees\;
  identify key components of a staff handbook\; and identify strategies for
  providing feedback to employee. Participants may bring a bagged lunch if 
 they choose.\n\nTrainer: Kathleen Murphy\n\nThis training is FREE.\n\nOCFS
  topics covered include: Business record maintenance and management. \n\nT
 his workshop is for Day Care Center and School-age Program Directors and S
 ite-Directors.\n
X-WR-RELCALID:0dc12e3fc94d565bbb8127e9ac9c4f31
X-WR-TIMEZONE:America/New_York
BEGIN:VTIMEZONE
TZID:America/New_York
BEGIN:STANDARD
TZNAME:EST
DTSTART:20231105T020000
TZOFFSETFROM:-0400
TZOFFSETTO:-0500
RDATE:20241103T020000
RDATE:20251102T020000
END:STANDARD
BEGIN:DAYLIGHT
TZNAME:EDT
DTSTART:20240310T020000
TZOFFSETFROM:-0500
TZOFFSETTO:-0400
RDATE:20250309T020000
RDATE:20260308T020000
END:DAYLIGHT
END:VTIMEZONE
BEGIN:VEVENT
UID:1df78826-69cb-44b9-936c-dcfd244139c0
DTSTAMP:20260421T093937Z
DESCRIPTION:During this three hour training we will review best practices r
 elated to recruiting\, interviewing\, and hiring new employees\; discuss a
  framework for building an effective orientation plan for new employees\; 
 identify key components of a staff handbook\; and identify strategies for 
 providing feedback to employee. Participants may bring a bagged lunch if t
 hey choose.\n\nTrainer: Kathleen Murphy\n\nThis training is FREE.\n\nOCFS 
 topics covered include: Business record maintenance and management. \n\nTh
 is workshop is for Day Care Center and School-age Program Directors and Si
 te-Directors.\n
DTSTART;TZID=America/New_York:20240924T100000
DTEND;TZID=America/New_York:20240924T130000
LOCATION:301 Manchester Rd.\, Poughkeepsie\, NY 12603 US
SUMMARY:Strengthening Business Practices: Recruiting and Retaining Staff fo
 r Center-Based Child Care Providers:
END:VEVENT
END:VCALENDAR
