BEGIN:VCALENDAR
VERSION:2.0
PRODID:-//www.childcaredutchess.org//NONSGML kigkonsult.se iCalcreator 2.30
 .10//
CALSCALE:GREGORIAN
METHOD:PUBLISH
UID:f12b2af0-7fa7-444d-bcb1-ba6d7ec45ab7
X-WR-CALDESC:This class meets the OCFS requirements for CPR and First Aid f
 or child care providers. \n\nTrainer: Scott Kohn\n\nThe cost for the class
  is $75 per person and is not EIP eligible.\n\nTHIS CLASS IS LIMITED TO 20
  PEOPLE ONLY. Register early to reserve your spot!
X-WR-RELCALID:dbca762b18383ad5a12337489e8b77c6
X-WR-TIMEZONE:America/New_York
BEGIN:VTIMEZONE
TZID:America/New_York
BEGIN:STANDARD
TZNAME:EST
DTSTART:20231105T020000
TZOFFSETFROM:-0400
TZOFFSETTO:-0500
RDATE:20241103T020000
RDATE:20251102T020000
END:STANDARD
BEGIN:DAYLIGHT
TZNAME:EDT
DTSTART:20240310T020000
TZOFFSETFROM:-0500
TZOFFSETTO:-0400
RDATE:20250309T020000
RDATE:20260308T020000
END:DAYLIGHT
END:VTIMEZONE
BEGIN:VEVENT
UID:faa7f493-04f2-4760-93ad-0e2aa9fe881c
DTSTAMP:20260421T112032Z
DESCRIPTION:This class meets the OCFS requirements for CPR and First Aid fo
 r child care providers. \n\nTrainer: Scott Kohn\n\nThe cost for the class 
 is $75 per person and is not EIP eligible.\n\nTHIS CLASS IS LIMITED TO 20 
 PEOPLE ONLY. Register early to reserve your spot!
DTSTART;TZID=America/New_York:20241005T093000
DTEND;TZID=America/New_York:20241005T123000
LOCATION:The Child Care Council of Dutchess & Putnam\, Inc.\,  301 Manchest
 er Road\, Suite 201A\,  Poughkeepsie\, NY 12603
SUMMARY:CANCELLED** Infant/Child/Adult CPR/First Aid/ AED
END:VEVENT
END:VCALENDAR
