BEGIN:VCALENDAR
VERSION:2.0
PRODID:-//www.childcaredutchess.org//NONSGML kigkonsult.se iCalcreator 2.30
 .10//
CALSCALE:GREGORIAN
METHOD:PUBLISH
UID:3bbab5c8-70cc-4210-8ec6-7b879facd826
X-WR-CALDESC:Join us to explore the nature of stress\, it's origins\, and e
 ffective coping strategies. Understand your role in both creating and alle
 viating stress\, and develop a personalized stress reduction plan. This pl
 an will not only help you as a daycare provider but also include strategie
 s for the children in your care.\n\nTrainer: Lori Wall\, Registrar\n\nThis
  training is appropriate for all modalities.  Training cost is $25.00 per 
 registrant.  You can now register online!\n\nThis training satisfies NYS O
 CFS training subject areas: (1) Principals of Childhood Development\,(2) N
 utrition and Health Needs of Infants and Children and (3) Child Day Care P
 rogram Development
X-WR-RELCALID:0b60fec97e16c9f421fc01898add1d4e
X-WR-TIMEZONE:America/New_York
BEGIN:VTIMEZONE
TZID:America/New_York
BEGIN:STANDARD
TZNAME:EST
DTSTART:20231105T020000
TZOFFSETFROM:-0400
TZOFFSETTO:-0500
RDATE:20241103T020000
RDATE:20251102T020000
END:STANDARD
BEGIN:DAYLIGHT
TZNAME:EDT
DTSTART:20240310T020000
TZOFFSETFROM:-0500
TZOFFSETTO:-0400
RDATE:20250309T020000
RDATE:20260308T020000
END:DAYLIGHT
END:VTIMEZONE
BEGIN:VEVENT
UID:43c2c3af-5c29-456e-95c0-b3de0909831a
DTSTAMP:20260421T110336Z
DESCRIPTION:Join us to explore the nature of stress\, it's origins\, and ef
 fective coping strategies. Understand your role in both creating and allev
 iating stress\, and develop a personalized stress reduction plan. This pla
 n will not only help you as a daycare provider but also include strategies
  for the children in your care.\n\nTrainer: Lori Wall\, Registrar\n\nThis 
 training is appropriate for all modalities.  Training cost is $25.00 per r
 egistrant.  You can now register online!\n\nThis training satisfies NYS OC
 FS training subject areas: (1) Principals of Childhood Development\,(2) Nu
 trition and Health Needs of Infants and Children and (3) Child Day Care Pr
 ogram Development
DTSTART;TZID=America/New_York:20241007T183000
DTEND;TZID=America/New_York:20241007T203000
LOCATION:301 Manchester Rd. Suite 201A\, Poughkeepsie\, NY 12603 US
SUMMARY:Zen Zone: Navigating Stress with Ease
END:VEVENT
END:VCALENDAR
