BEGIN:VCALENDAR
VERSION:2.0
PRODID:-//www.childcaredutchess.org//NONSGML kigkonsult.se iCalcreator 2.30
 .10//
CALSCALE:GREGORIAN
METHOD:PUBLISH
UID:39d3a963-0b2f-4578-851c-bea0943aeb5d
X-WR-CALDESC:Mindfulness offers numerous benefits for children\, contributi
 ng to their overall development and well-being. From enhancing bonding\, s
 upporting emotional regulation\, improving sleep\, and fostering sensory d
 evelopment\, children of all ages benefit. Overall\, mindfulness supports 
 a healthy balance between emotional\, cognitive\, and physical growth in c
 hildren.\n\n\nThe objective of this training is to equip daycare professio
 nals with practical tools and techniques to incorporate movement and mindf
 ulness into daily routines\, promoting physical\, emotional\, and cognitiv
 e development in children. Participants will learn the importance of integ
 rating mindfulness practices and physical activities for children’s overal
 l well-being\, age appropriate activities\, simple mindfulness exercises a
 nd movement games and relaxation strategies to benefit not only children\,
  but staff as well. \n\nThis training is appropriate for all modalities.\n
 \nTrainer: Liz Torres Zocchi\, Owner & Lead Educator Mindful Yoga With Liz
  \n\nThis training is $25.00 per registrant.  You can now register online!
 \n\n
X-WR-RELCALID:6b8d09bbd06c5a1a11edb341c8f07f35
X-WR-TIMEZONE:America/New_York
BEGIN:VTIMEZONE
TZID:America/New_York
BEGIN:STANDARD
TZNAME:EST
DTSTART:20231105T020000
TZOFFSETFROM:-0400
TZOFFSETTO:-0500
RDATE:20241103T020000
RDATE:20251102T020000
END:STANDARD
BEGIN:DAYLIGHT
TZNAME:EDT
DTSTART:20240310T020000
TZOFFSETFROM:-0500
TZOFFSETTO:-0400
RDATE:20250309T020000
RDATE:20260308T020000
END:DAYLIGHT
END:VTIMEZONE
BEGIN:VEVENT
UID:d7cbf050-f219-4cd2-abdd-dd2dd2928868
DTSTAMP:20260421T110335Z
DESCRIPTION:Mindfulness offers numerous benefits for children\, contributin
 g to their overall development and well-being. From enhancing bonding\, su
 pporting emotional regulation\, improving sleep\, and fostering sensory de
 velopment\, children of all ages benefit. Overall\, mindfulness supports a
  healthy balance between emotional\, cognitive\, and physical growth in ch
 ildren.\n\n\nThe objective of this training is to equip daycare profession
 als with practical tools and techniques to incorporate movement and mindfu
 lness into daily routines\, promoting physical\, emotional\, and cognitive
  development in children. Participants will learn the importance of integr
 ating mindfulness practices and physical activities for children’s overall
  well-being\, age appropriate activities\, simple mindfulness exercises an
 d movement games and relaxation strategies to benefit not only children\, 
 but staff as well. \n\nThis training is appropriate for all modalities.\n
 \nTrainer: Liz Torres Zocchi\, Owner & Lead Educator Mindful Yoga With Liz
  \n\nThis training is $25.00 per registrant.  You can now register online!
 \n\n
DTSTART;TZID=America/New_York:20241009T183000
DTEND;TZID=America/New_York:20241009T203000
LOCATION:301 Manchester Rd. Suite 201A\, Poughkeepsie\, NY 12603 US
SUMMARY:Movement & Mindfulness for Infant through School-Age
END:VEVENT
END:VCALENDAR
