BEGIN:VCALENDAR
VERSION:2.0
PRODID:-//www.childcaredutchess.org//NONSGML kigkonsult.se iCalcreator 2.30
 .10//
CALSCALE:GREGORIAN
METHOD:PUBLISH
UID:153818f8-8b81-446b-bab5-a89aa3c9a974
X-WR-CALDESC:This Babysitting Course is a valuable course for boys and girl
 s ages 10-16 who are interested in becoming the next neighborhood babysitt
 er. This course will cover topics such as interviewing tips\, communicatio
 n skills\, ages and stages of young babies and toddlers\, safety\, first a
 id\, feeding and caring for young children. Each future babysitter will al
 so learn how to hold a baby and change his/her diaper. Each participant wi
 ll receive a certificate of completion via email.\n\nTrainer: Scott Kohn (
 Certified Mental Health First Aid Instructor/EMT-B)\n\nThe cost of this tr
 aining is $60.00. It will be held from 10:00 am -12:00 pm.\nThis training 
 is open to the general public for boys and girls ages 10-16.
X-WR-RELCALID:f79320d291d3548f50469f1ea31d5919
X-WR-TIMEZONE:America/New_York
BEGIN:VTIMEZONE
TZID:America/New_York
BEGIN:STANDARD
TZNAME:EST
DTSTART:20231105T020000
TZOFFSETFROM:-0400
TZOFFSETTO:-0500
RDATE:20241103T020000
RDATE:20251102T020000
END:STANDARD
BEGIN:DAYLIGHT
TZNAME:EDT
DTSTART:20240310T020000
TZOFFSETFROM:-0500
TZOFFSETTO:-0400
RDATE:20250309T020000
RDATE:20260308T020000
END:DAYLIGHT
END:VTIMEZONE
BEGIN:VEVENT
UID:80c2ba5e-7068-4595-bb14-814bc9f56267
DTSTAMP:20260421T111416Z
DESCRIPTION:This Babysitting Course is a valuable course for boys and girls
  ages 10-16 who are interested in becoming the next neighborhood babysitte
 r. This course will cover topics such as interviewing tips\, communication
  skills\, ages and stages of young babies and toddlers\, safety\, first ai
 d\, feeding and caring for young children. Each future babysitter will als
 o learn how to hold a baby and change his/her diaper. Each participant wil
 l receive a certificate of completion via email.\n\nTrainer: Scott Kohn (C
 ertified Mental Health First Aid Instructor/EMT-B)\n\nThe cost of this tra
 ining is $60.00. It will be held from 10:00 am -12:00 pm.\nThis training i
 s open to the general public for boys and girls ages 10-16.
DTSTART;TZID=America/New_York:20241012T100000
DTEND;TZID=America/New_York:20241012T120000
LOCATION:301 Manchester Rd. Suite 201A\, Poughkeepsie\, NY 12603 US
SUMMARY:CANCELLED - Babysitting
END:VEVENT
END:VCALENDAR
