BEGIN:VCALENDAR
VERSION:2.0
PRODID:-//www.childcaredutchess.org//NONSGML kigkonsult.se iCalcreator 2.30
 .10//
CALSCALE:GREGORIAN
METHOD:PUBLISH
UID:4a06b2ad-2d60-4ffd-9659-e31803a4bd90
X-WR-CALDESC:This training focuses on the concept and practice of loose-par
 ts play. Loose parts are open-ended materials that children can move\, man
 ipulate\, combine\, and redesign\, fostering creativity\, problem-solving\
 , and critical thinking skills. This training covers various aspects such 
 as understanding loose parts\, the benefits of loose-parts play\, practica
 l applications\, creating a loose-parts environment\, and the role of the 
 adult.\nThis interactive training involves hands-on activities. Participan
 ts experience loose-parts play firsthand\, and they leave with practical s
 trategies to implement in their child care settings. \n\nTrainer: Wendy Co
 oper\, Director of Development Coordinator\, CCCDP & Registrar\n\nThe cost
  of this training is $25.00 per person.\nOCFS topics covered include: (1)P
 rincipals of Child Development & (3)Child Program Development\n\nThis trai
 ning is appropriate for all modalities.
X-WR-RELCALID:bfec05e8300fa600073726e430300d0c
X-WR-TIMEZONE:America/New_York
BEGIN:VTIMEZONE
TZID:America/New_York
BEGIN:STANDARD
TZNAME:EST
DTSTART:20231105T020000
TZOFFSETFROM:-0400
TZOFFSETTO:-0500
RDATE:20241103T020000
RDATE:20251102T020000
END:STANDARD
BEGIN:DAYLIGHT
TZNAME:EDT
DTSTART:20240310T020000
TZOFFSETFROM:-0500
TZOFFSETTO:-0400
RDATE:20250309T020000
RDATE:20260308T020000
END:DAYLIGHT
END:VTIMEZONE
BEGIN:VEVENT
UID:8f62e3c8-13bd-472d-8ca3-982d1aa8e0c6
DTSTAMP:20260421T111609Z
DESCRIPTION:This training focuses on the concept and practice of loose-part
 s play. Loose parts are open-ended materials that children can move\, mani
 pulate\, combine\, and redesign\, fostering creativity\, problem-solving\,
  and critical thinking skills. This training covers various aspects such a
 s understanding loose parts\, the benefits of loose-parts play\, practical
  applications\, creating a loose-parts environment\, and the role of the a
 dult.\nThis interactive training involves hands-on activities. Participant
 s experience loose-parts play firsthand\, and they leave with practical st
 rategies to implement in their child care settings. \n\nTrainer: Wendy Coo
 per\, Director of Development Coordinator\, CCCDP & Registrar\n\nThe cost 
 of this training is $25.00 per person.\nOCFS topics covered include: (1)Pr
 incipals of Child Development & (3)Child Program Development\n\nThis train
 ing is appropriate for all modalities.
DTSTART;TZID=America/New_York:20241022T060000
DTEND;TZID=America/New_York:20241022T060001
LOCATION:301 Manchester Rd.\, Poughkeepsie\, NY 12603 US
SUMMARY:Building Blocks of Creativity: Empowering Loose Parts Play
END:VEVENT
END:VCALENDAR
