BEGIN:VCALENDAR
VERSION:2.0
PRODID:-//www.childcaredutchess.org//NONSGML kigkonsult.se iCalcreator 2.30
 .10//
CALSCALE:GREGORIAN
METHOD:PUBLISH
UID:882f5351-cbe3-4eff-9d58-bff4815685f9
X-WR-CALDESC:Caring for children in family day care or group family day car
 e program is a big responsibility. The health and safety of children in ca
 re is the highest priority for both the provider and for the New York Stat
 e Office of Children and Family Services. To ensure that new providers are
  prepared for this responsibility\, they must complete health and safety t
 raining approved by the Office of Children and Family Services (OCFS).\n\n
 Trainer: Darla Fulmer\n\nOCFS Topic areas include: Nutrition and Health\, 
 Child Care Statutes and Regs\, Business Records\, Safety and \n           
                                   Security\, CA/M ID and Prevention\, CA/M
  Statutes and Regs\, Shaken Baby Syndrome\n\nThis training is appropriate 
 for FDC/GFDC.\n\nCost of this training is $250.00 per person.\n\n** Partic
 ipants must register through the www.ecetp.pdp.albany.edu. After participa
 nt has registered please complete payment by calling the Child Care Counci
 l of Dutchess & Putnam\, Inc. \n\nTraining contact: Wendy Cooper - 845-473
 -4141 ext. 228
X-WR-RELCALID:72cb5d76cf6087b2df44e1296b45500a
X-WR-TIMEZONE:America/New_York
BEGIN:VTIMEZONE
TZID:America/New_York
BEGIN:STANDARD
TZNAME:EST
DTSTART:20231105T020000
TZOFFSETFROM:-0400
TZOFFSETTO:-0500
RDATE:20241103T020000
RDATE:20251102T020000
END:STANDARD
BEGIN:DAYLIGHT
TZNAME:EDT
DTSTART:20240310T020000
TZOFFSETFROM:-0500
TZOFFSETTO:-0400
RDATE:20250309T020000
RDATE:20260308T020000
END:DAYLIGHT
END:VTIMEZONE
BEGIN:VEVENT
UID:c3b3a0b0-2ac5-4a28-b207-5f8044cfab01
DTSTAMP:20260421T111136Z
DESCRIPTION:Caring for children in family day care or group family day care
  program is a big responsibility. The health and safety of children in car
 e is the highest priority for both the provider and for the New York State
  Office of Children and Family Services. To ensure that new providers are 
 prepared for this responsibility\, they must complete health and safety tr
 aining approved by the Office of Children and Family Services (OCFS).\n\nT
 rainer: Darla Fulmer\n\nOCFS Topic areas include: Nutrition and Health\, C
 hild Care Statutes and Regs\, Business Records\, Safety and \n            
                                  Security\, CA/M ID and Prevention\, CA/M 
 Statutes and Regs\, Shaken Baby Syndrome\n\nThis training is appropriate f
 or FDC/GFDC.\n\nCost of this training is $250.00 per person.\n\n** Partici
 pants must register through the www.ecetp.pdp.albany.edu. After participan
 t has registered please complete payment by calling the Child Care Council
  of Dutchess & Putnam\, Inc. \n\nTraining contact: Wendy Cooper - 845-473-
 4141 ext. 228
DTSTART;TZID=America/New_York:20241024T150000
DTEND;TZID=America/New_York:20241024T190000
LOCATION:301 Manchester Rd. Suite 201A\, Poughkeepse\, NY 12603 US
SUMMARY:15 Hour Health & Safety Training - FDC/GFDC
END:VEVENT
END:VCALENDAR
