BEGIN:VCALENDAR
VERSION:2.0
PRODID:-//www.childcaredutchess.org//NONSGML kigkonsult.se iCalcreator 2.30
 .10//
CALSCALE:GREGORIAN
METHOD:PUBLISH
UID:4d431124-d41f-49c0-8852-bff5700b71c0
X-WR-CALDESC:This is a 4 class series.  On the following dates\, registrant
 s are required to attend to receive a certificate:\nThursday\, October 25\
 , 2024\nMonday\, October 28\, 2024\nTuesday\, November 5\, 2024\nThursday\
 , November 7\, 2024\n3:00 pm - 7:00 pm\nChild Care Council of Dutchess and
  Putnam\, Inc.\, 301 Manchester Rd.\, Suite 201A\, Poughkeepsie\, NY 12603
 \n\nCaring for children in family day care or group family day care progra
 m is a big responsibility. The health and safety of children in care is th
 e highest priority for both the provider and for the New York State Office
  of Children and Family Services. To ensure that new providers are prepare
 d for this responsibility\, they must complete health and safety training 
 approved by the Office of Children and Family Services (OCFS).\n\nTrainer:
  Darla Fulmer\nCost: $250\n\nRegister at: https://www.ecetp.pdp.albany.edu
 /FindTraining.aspx?TrainerID=494\n\nOnce you have registered via the ecetp
  website\, please call the Child Care Council of Dutchess and Putnam\, Inc
 . to complete payment for the class. Wendy Cooper: 845-473-4141 ext 228
X-WR-RELCALID:ffba7a17be2aa8f21b2bf358ece14de9
X-WR-TIMEZONE:America/New_York
BEGIN:VTIMEZONE
TZID:America/New_York
BEGIN:STANDARD
TZNAME:EST
DTSTART:20231105T020000
TZOFFSETFROM:-0400
TZOFFSETTO:-0500
RDATE:20241103T020000
RDATE:20251102T020000
END:STANDARD
BEGIN:DAYLIGHT
TZNAME:EDT
DTSTART:20240310T020000
TZOFFSETFROM:-0500
TZOFFSETTO:-0400
RDATE:20250309T020000
RDATE:20260308T020000
END:DAYLIGHT
END:VTIMEZONE
BEGIN:VEVENT
UID:d3b20460-fcc0-4258-a475-a042d844ea51
DTSTAMP:20260421T112133Z
DESCRIPTION:This is a 4 class series.  On the following dates\, registrants
  are required to attend to receive a certificate:\nThursday\, October 25\,
  2024\nMonday\, October 28\, 2024\nTuesday\, November 5\, 2024\nThursday\,
  November 7\, 2024\n3:00 pm - 7:00 pm\nChild Care Council of Dutchess and 
 Putnam\, Inc.\, 301 Manchester Rd.\, Suite 201A\, Poughkeepsie\, NY 12603
 \n\nCaring for children in family day care or group family day care progra
 m is a big responsibility. The health and safety of children in care is th
 e highest priority for both the provider and for the New York State Office
  of Children and Family Services. To ensure that new providers are prepare
 d for this responsibility\, they must complete health and safety training 
 approved by the Office of Children and Family Services (OCFS).\n\nTrainer:
  Darla Fulmer\nCost: $250\n\nRegister at: https://www.ecetp.pdp.albany.edu
 /FindTraining.aspx?TrainerID=494\n\nOnce you have registered via the ecetp
  website\, please call the Child Care Council of Dutchess and Putnam\, Inc
 . to complete payment for the class. Wendy Cooper: 845-473-4141 ext 228
DTSTART;TZID=America/New_York:20241024T150000
DTEND;TZID=America/New_York:20241024T190000
LOCATION:301 Manchester Rd. Suite 201A\, Poughkeepsie\, NY 12603 US
SUMMARY:Health and Safety: Competencies for Becoming a Family or Group Fami
 ly Day Care Provider (15 Hour)
END:VEVENT
END:VCALENDAR
