BEGIN:VCALENDAR
VERSION:2.0
PRODID:-//www.childcaredutchess.org//NONSGML kigkonsult.se iCalcreator 2.30
 .10//
CALSCALE:GREGORIAN
METHOD:PUBLISH
UID:c001636a-5d9a-4125-9165-dcfca1d0cc1e
X-WR-CALDESC:Don’t FLIP OUT\, use FLIP IT! Are you interested in finding a 
 way to stay calm\, be consistent and support children (ages 3-8) when they
  are challenging you? FLIP IT® is a strategy that offers a simple\, kind\,
  and commonsense process to address children’s challenging behavior. The f
 our steps of FLIP IT can be easily remembered using the mnemonic of FLIP\,
  which stands for F – Feelings\, L – Limits\, I – Inquiries and P – Prompt
 s. FLIP IT is nothing new\, but turns what works into a strategy that is e
 asy to remember and easy to use in real-life challenging situations. Both 
 parents and teachers have been using the FLIP IT strategy with great resul
 ts for many years.  Learn the FLIP IT steps and get started changing behav
 ior. \n\nTrainer: Wendy Cooper\, Director of Professional Development\, CC
 CDP\n\nOCFS Subject Areas covered: (1) Principals of Child Development\, (
 3) Child Day Care Program Development\n\nThis training is appropriate for 
 all modalities of care and open to the general public.\nTraining fee is $3
 5 per person\n
X-WR-RELCALID:b2324a81fa7e641a1fe57ea7544904a7
X-WR-TIMEZONE:America/New_York
BEGIN:VTIMEZONE
TZID:America/New_York
BEGIN:STANDARD
TZNAME:EST
DTSTART:20231105T020000
TZOFFSETFROM:-0400
TZOFFSETTO:-0500
RDATE:20241103T020000
RDATE:20251102T020000
END:STANDARD
BEGIN:DAYLIGHT
TZNAME:EDT
DTSTART:20240310T020000
TZOFFSETFROM:-0500
TZOFFSETTO:-0400
RDATE:20250309T020000
RDATE:20260308T020000
END:DAYLIGHT
END:VTIMEZONE
BEGIN:VEVENT
UID:97551473-51e3-45b6-8a05-4b21f618c8f0
DTSTAMP:20260421T124457Z
DESCRIPTION:Don’t FLIP OUT\, use FLIP IT! Are you interested in finding a w
 ay to stay calm\, be consistent and support children (ages 3-8) when they 
 are challenging you? FLIP IT® is a strategy that offers a simple\, kind\, 
 and commonsense process to address children’s challenging behavior. The fo
 ur steps of FLIP IT can be easily remembered using the mnemonic of FLIP\, 
 which stands for F – Feelings\, L – Limits\, I – Inquiries and P – Prompts
 . FLIP IT is nothing new\, but turns what works into a strategy that is ea
 sy to remember and easy to use in real-life challenging situations. Both p
 arents and teachers have been using the FLIP IT strategy with great result
 s for many years.  Learn the FLIP IT steps and get started changing behavi
 or. \n\nTrainer: Wendy Cooper\, Director of Professional Development\, CCC
 DP\n\nOCFS Subject Areas covered: (1) Principals of Child Development\, (3
 ) Child Day Care Program Development\n\nThis training is appropriate for a
 ll modalities of care and open to the general public.\nTraining fee is $35
  per person\n
DTSTART;TZID=America/New_York:20241102T060000
DTEND;TZID=America/New_York:20241102T060001
LOCATION:301 Manchester Rd. Suite 201A\, Poughkeepse\, NY 12603 US
SUMMARY:CANCELLED - Flip It Strategy - Navigating Challenging Behaviors
END:VEVENT
END:VCALENDAR
