BEGIN:VCALENDAR
VERSION:2.0
PRODID:-//www.childcaredutchess.org//NONSGML kigkonsult.se iCalcreator 2.30
 .10//
CALSCALE:GREGORIAN
METHOD:PUBLISH
UID:e194e831-ee73-4058-b037-3cb10a608691
X-WR-CALDESC:This class meets the OCFS requirements for CPR and First Aid f
 or child care providers.\n\nTrainer: Scott Kohn\n\nThe cost for the class 
 is $75 per person and is not EIP eligible.\n\nTHIS CLASS IS LIMITED TO 20 
 PEOPLE ONLY. Register early to reserve your spot!
X-WR-RELCALID:60c492e5084f77288e7ca943d4ff4663
X-WR-TIMEZONE:America/New_York
BEGIN:VTIMEZONE
TZID:America/New_York
BEGIN:STANDARD
TZNAME:EST
DTSTART:20241103T020000
TZOFFSETFROM:-0400
TZOFFSETTO:-0500
RDATE:20251102T020000
END:STANDARD
BEGIN:DAYLIGHT
TZNAME:EDT
DTSTART:20240310T020000
TZOFFSETFROM:-0500
TZOFFSETTO:-0400
RDATE:20250309T020000
RDATE:20260308T020000
END:DAYLIGHT
END:VTIMEZONE
BEGIN:VEVENT
UID:3aa778a0-a3e1-4501-8a93-129d1eedb957
DTSTAMP:20260421T124016Z
DESCRIPTION:This class meets the OCFS requirements for CPR and First Aid fo
 r child care providers.\n\nTrainer: Scott Kohn\n\nThe cost for the class i
 s $75 per person and is not EIP eligible.\n\nTHIS CLASS IS LIMITED TO 20 P
 EOPLE ONLY. Register early to reserve your spot!
DTSTART;TZID=America/New_York:20241109T093000
DTEND;TZID=America/New_York:20241109T123000
LOCATION:301 Manchester Rd. Suite 201A\, Poughkeepse\, NY 12603 US
SUMMARY:FULL - First Aid/CPR
END:VEVENT
END:VCALENDAR
