BEGIN:VCALENDAR
VERSION:2.0
PRODID:-//www.childcaredutchess.org//NONSGML kigkonsult.se iCalcreator 2.30
 .10//
CALSCALE:GREGORIAN
METHOD:PUBLISH
UID:9198c72b-3189-4f04-b019-f0818789b664
X-WR-CALDESC:Join us for an evening of insights!\nDiscover how the Child Ca
 re Council can support your program\,\nwhat to anticipate during inspectio
 ns\, and key regulatory requirements you need to know. Bring any questions
  and concerns to discuss with your regulators. We look forward to seeing y
 ou! \n\nTrainers: Carol Hand\, CCCDP Regulator\n                Mara Goule
 tte\, CCCDP Regulator\n                Wendy Cooper\, CCCDP Director of Pr
 ofessional Development\n\nOCFS Topic areas include: (5) Business Record Ma
 intenance and Management\n                                              (7
 ) Statutes & Regs Pertaining to Child Day Care\n\nThis training is appropr
 iate for new FDC & SACC modalities established\nJune 2022 - present.\n\nCo
 st of this training is $10.00 per person
X-WR-RELCALID:98f39d743557400875d2ce82c522c46d
X-WR-TIMEZONE:America/New_York
BEGIN:VTIMEZONE
TZID:America/New_York
BEGIN:STANDARD
TZNAME:EST
DTSTART:20241103T020000
TZOFFSETFROM:-0400
TZOFFSETTO:-0500
RDATE:20251102T020000
END:STANDARD
BEGIN:DAYLIGHT
TZNAME:EDT
DTSTART:20240310T020000
TZOFFSETFROM:-0500
TZOFFSETTO:-0400
RDATE:20250309T020000
RDATE:20260308T020000
END:DAYLIGHT
END:VTIMEZONE
BEGIN:VEVENT
UID:4a828347-31c1-4ca5-92a9-24f09154ff32
DTSTAMP:20260421T125558Z
DESCRIPTION:Join us for an evening of insights!\nDiscover how the Child Car
 e Council can support your program\,\nwhat to anticipate during inspection
 s\, and key regulatory requirements you need to know. Bring any questions 
 and concerns to discuss with your regulators. We look forward to seeing yo
 u! \n\nTrainers: Carol Hand\, CCCDP Regulator\n                Mara Goulet
 te\, CCCDP Regulator\n                Wendy Cooper\, CCCDP Director of Pro
 fessional Development\n\nOCFS Topic areas include: (5) Business Record Mai
 ntenance and Management\n                                              (7)
  Statutes & Regs Pertaining to Child Day Care\n\nThis training is appropri
 ate for new FDC & SACC modalities established\nJune 2022 - present.\n\nCos
 t of this training is $10.00 per person
DTSTART;TZID=America/New_York:20241114T183000
DTEND;TZID=America/New_York:20241114T200000
LOCATION:301 Manchester Rd. Suite 201A\, Poughkeepse\, NY 12603 US
SUMMARY:New Child Care Provider: Building Your Foundation
END:VEVENT
END:VCALENDAR
