BEGIN:VCALENDAR
VERSION:2.0
PRODID:-//www.childcaredutchess.org//NONSGML kigkonsult.se iCalcreator 2.30
 .10//
CALSCALE:GREGORIAN
METHOD:PUBLISH
UID:b5e9f3ef-53c2-4995-9d0f-33a12b96e73f
X-WR-CALDESC:301-Level Adverse Childhood Experiences (ACEs)\n\nTime: 9:00am
 -12:00pm\nTrainers: Tiffinie Helweg and Kathleen Murphy\nSummary:\nPartici
 pants will discover the proactive nature of creating regulated spaces acro
 ss multitier systems in child care programs. Participants will learn how t
 o create regulated spaces in their programs\, will be able to analyze regu
 lated spaces within their child care at a programmatic level\, classroom l
 evel and individual level\, and create an action plan to enhance regulated
  spaces within in their programs.\nCompletion of 101-Level and 201-Level A
 CEs training is strongly encouraged before participating in this training.
 \nOCFS: 10\nCost per participant is $35.00\n\n
X-WR-RELCALID:d33cb773954a0f3987262530f616bec2
X-WR-TIMEZONE:America/New_York
BEGIN:VTIMEZONE
TZID:America/New_York
BEGIN:STANDARD
TZNAME:EST
DTSTART:20241103T020000
TZOFFSETFROM:-0400
TZOFFSETTO:-0500
RDATE:20251102T020000
END:STANDARD
BEGIN:DAYLIGHT
TZNAME:EDT
DTSTART:20240310T020000
TZOFFSETFROM:-0500
TZOFFSETTO:-0400
RDATE:20250309T020000
RDATE:20260308T020000
END:DAYLIGHT
END:VTIMEZONE
BEGIN:VEVENT
UID:c6cb34fb-5bbf-4836-8795-642104484780
DTSTAMP:20260421T165925Z
DESCRIPTION:301-Level Adverse Childhood Experiences (ACEs)\n\nTime: 9:00am-
 12:00pm\nTrainers: Tiffinie Helweg and Kathleen Murphy\nSummary:\nParticip
 ants will discover the proactive nature of creating regulated spaces acros
 s multitier systems in child care programs. Participants will learn how to
  create regulated spaces in their programs\, will be able to analyze regul
 ated spaces within their child care at a programmatic level\, classroom le
 vel and individual level\, and create an action plan to enhance regulated 
 spaces within in their programs.\nCompletion of 101-Level and 201-Level AC
 Es training is strongly encouraged before participating in this training.
 \nOCFS: 10\nCost per participant is $35.00\n\n
DTSTART;TZID=America/New_York:20241116T090000
DTEND;TZID=America/New_York:20241116T120000
LOCATION:301 Manchester Rd. Suite 201A\, Poughkeepsie\, NY 12603 US
SUMMARY:301 Level ACEs
END:VEVENT
END:VCALENDAR
