BEGIN:VCALENDAR
VERSION:2.0
PRODID:-//www.childcaredutchess.org//NONSGML kigkonsult.se iCalcreator 2.30
 .10//
CALSCALE:GREGORIAN
METHOD:PUBLISH
UID:e4c2a5c9-fb32-4e77-acd4-3cc4fd8fbe9f
X-WR-CALDESC:What is an Individual Health Care Plan? Why do we need them? W
 ho needs one? This training will teach you how to create a proper plan tha
 t follows NYS regulations and to ensure each child with a special health c
 are need receives the highest quality of care.\n\nTrainers: Sarah Barnish 
 and Marianne Squazzo\, Acorns to Oaks\n\nThe cost of this training is $25 
 per person.\nOCFS topics covered include: health and nutrition\, statutes 
 and regulations pertaining to child care.\n\nThis training is appropriate 
 for all modalities.
X-WR-RELCALID:7da42453fd0d79ddd8cb305bd36e6f60
X-WR-TIMEZONE:America/New_York
BEGIN:VTIMEZONE
TZID:America/New_York
BEGIN:STANDARD
TZNAME:EST
DTSTART:20241103T020000
TZOFFSETFROM:-0400
TZOFFSETTO:-0500
RDATE:20251102T020000
END:STANDARD
BEGIN:DAYLIGHT
TZNAME:EDT
DTSTART:20240310T020000
TZOFFSETFROM:-0500
TZOFFSETTO:-0400
RDATE:20250309T020000
RDATE:20260308T020000
END:DAYLIGHT
END:VTIMEZONE
BEGIN:VEVENT
UID:6662c901-63a4-45f4-ab85-dc0420c9a6a0
DTSTAMP:20260421T124225Z
DESCRIPTION:What is an Individual Health Care Plan? Why do we need them? Wh
 o needs one? This training will teach you how to create a proper plan that
  follows NYS regulations and to ensure each child with a special health ca
 re need receives the highest quality of care.\n\nTrainers: Sarah Barnish a
 nd Marianne Squazzo\, Acorns to Oaks\n\nThe cost of this training is $25 p
 er person.\nOCFS topics covered include: health and nutrition\, statutes a
 nd regulations pertaining to child care.\n\nThis training is appropriate f
 or all modalities.
DTSTART;TZID=America/New_York:20241119T183000
DTEND;TZID=America/New_York:20241119T203000
LOCATION:301 Manchester Rd. Suite 201A\, Poughkeepse\, NY 12603 US
SUMMARY:Cancelled - Keeping Up to Date on Medical Paperwork
END:VEVENT
END:VCALENDAR
