BEGIN:VCALENDAR
VERSION:2.0
PRODID:-//www.childcaredutchess.org//NONSGML kigkonsult.se iCalcreator 2.30
 .10//
CALSCALE:GREGORIAN
METHOD:PUBLISH
UID:e184951f-3176-4e37-a13d-65e213c6d402
X-WR-CALDESC:How do you provide positive reinforcement to the children in y
 our care and why is it important? In this training\, we are going to discu
 ss how we should use praise and encouragement\, empathy and respect\, your
  communication styles\, active listening and body language. We will explor
 e how to avoid empty promises and promises you can’t keep\, accusation and
  saying “I’m sorry.” \n\nTrainer: Darla Fulmer\n\nThe cost of this trainin
 g is: $25.00 per person\nOCFS topics covered include: (1) Child developmen
 t & (3) Program development\n\nThis training is appropriate for all modali
 ties.
X-WR-RELCALID:00bec0e07bdab17afdf053f27a6d6369
X-WR-TIMEZONE:America/New_York
BEGIN:VTIMEZONE
TZID:America/New_York
BEGIN:STANDARD
TZNAME:EST
DTSTART:20241103T020000
TZOFFSETFROM:-0400
TZOFFSETTO:-0500
RDATE:20251102T020000
END:STANDARD
BEGIN:DAYLIGHT
TZNAME:EDT
DTSTART:20240310T020000
TZOFFSETFROM:-0500
TZOFFSETTO:-0400
RDATE:20250309T020000
RDATE:20260308T020000
END:DAYLIGHT
END:VTIMEZONE
BEGIN:VEVENT
UID:9a39290f-4bd2-4504-9237-daba5b172c7c
DTSTAMP:20260421T123718Z
DESCRIPTION:How do you provide positive reinforcement to the children in yo
 ur care and why is it important? In this training\, we are going to discus
 s how we should use praise and encouragement\, empathy and respect\, your 
 communication styles\, active listening and body language. We will explore
  how to avoid empty promises and promises you can’t keep\, accusation and 
 saying “I’m sorry.” \n\nTrainer: Darla Fulmer\n\nThe cost of this training
  is: $25.00 per person\nOCFS topics covered include: (1) Child development
  & (3) Program development\n\nThis training is appropriate for all modalit
 ies.
DTSTART;TZID=America/New_York:20241121T060000
DTEND;TZID=America/New_York:20241121T060001
LOCATION:301 Manchester Rd. Suite 201A\, Poughkeepse\, NY 12603 US
SUMMARY:Cancelled - Positive Reinforcement & Intentional Language
END:VEVENT
END:VCALENDAR
