BEGIN:VCALENDAR
VERSION:2.0
PRODID:-//www.childcaredutchess.org//NONSGML kigkonsult.se iCalcreator 2.30
 .10//
CALSCALE:GREGORIAN
METHOD:PUBLISH
UID:e0b80970-1f29-46ac-9ab3-b23fabe3fb2f
X-WR-CALDESC:This training will be led by staff from the Dutchess County De
 partment of Behavioral & Community Health. This training will teach you wh
 y naloxone (Narcan) works to reverse an opioid overdose\, what to do when 
 an opioid overdose is suspected\, how and when to give someone Narcan. Eac
 h person in attendance will receive a FREE Narcan kit to take with them at
  the end of the training. With the most recent exposures of young children
  in child care programs\, this is important information to have.\n\nTraine
 r: Lori Levine\, MSPH\, Public Health Education Coordinator\n\nThe cost of
  this training is $15.\nOCFS Topics covered include: nutrition and health 
 needs and safety and security.\n\nThis training is for all modalities of c
 are and the public.
X-WR-RELCALID:25d8904ae8439aaf7b839bf282aa244b
X-WR-TIMEZONE:America/New_York
BEGIN:VTIMEZONE
TZID:America/New_York
BEGIN:STANDARD
TZNAME:EST
DTSTART:20241103T020000
TZOFFSETFROM:-0400
TZOFFSETTO:-0500
RDATE:20251102T020000
END:STANDARD
BEGIN:DAYLIGHT
TZNAME:EDT
DTSTART:20240310T020000
TZOFFSETFROM:-0500
TZOFFSETTO:-0400
RDATE:20250309T020000
RDATE:20260308T020000
END:DAYLIGHT
END:VTIMEZONE
BEGIN:VEVENT
UID:0d08639a-bff9-4139-aa73-1f67d3124aa2
DTSTAMP:20260421T144057Z
DESCRIPTION:This training will be led by staff from the Dutchess County Dep
 artment of Behavioral & Community Health. This training will teach you why
  naloxone (Narcan) works to reverse an opioid overdose\, what to do when a
 n opioid overdose is suspected\, how and when to give someone Narcan. Each
  person in attendance will receive a FREE Narcan kit to take with them at 
 the end of the training. With the most recent exposures of young children 
 in child care programs\, this is important information to have.\n\nTrainer
 : Lori Levine\, MSPH\, Public Health Education Coordinator\n\nThe cost of 
 this training is $15.\nOCFS Topics covered include: nutrition and health n
 eeds and safety and security.\n\nThis training is for all modalities of ca
 re and the public.
DTSTART;TZID=America/New_York:20241202T183000
DTEND;TZID=America/New_York:20241202T193000
LOCATION:301 Manchester Rd. Suite 201A\, Poughkeepse\, NY 12603 US
SUMMARY:Narcan Training
END:VEVENT
END:VCALENDAR
