BEGIN:VCALENDAR
VERSION:2.0
PRODID:-//www.childcaredutchess.org//NONSGML kigkonsult.se iCalcreator 2.30
 .10//
CALSCALE:GREGORIAN
METHOD:PUBLISH
UID:0c502b61-06d9-4f3b-9efa-98df6a06cdd3
X-WR-CALDESC:Music and movement have the unique ability to engage the entir
 e brain\, nurturing every area of growth and development. Together we will
  learn the science behind these benefits and explore how you can use music
  and movement in your classroom. Get ready to sing and dance along as we e
 xplore how music and movement nurture three big developmental areas: \n•	So
 cial and emotional development\n•	Gross and fine motor skills\n•	Language\, 
 communication\, and literacy\nCaregivers of children from birth through tw
 elve years of age will gain musical teaching tools - no musical experience
  or “skills” required! \n\nTrainer: Rachel Calogerakis\, Owner & Operator 
 Harmony Garden Music Center\n\nThis training is appropriate for all modali
 ties and general public.\n\nOCFS subject areas: (1) Principal of Childhood
  Development and (3) Child Day Care Program Development\n
X-WR-RELCALID:1bf9da543545980a739c1d2e93c21110
X-WR-TIMEZONE:America/New_York
BEGIN:VTIMEZONE
TZID:America/New_York
BEGIN:STANDARD
TZNAME:EST
DTSTART:20241103T020000
TZOFFSETFROM:-0400
TZOFFSETTO:-0500
RDATE:20251102T020000
END:STANDARD
BEGIN:DAYLIGHT
TZNAME:EDT
DTSTART:20240310T020000
TZOFFSETFROM:-0500
TZOFFSETTO:-0400
RDATE:20250309T020000
RDATE:20260308T020000
END:DAYLIGHT
END:VTIMEZONE
BEGIN:VEVENT
UID:48f201b5-5812-41fe-84fd-f6ae47c2f8b5
DTSTAMP:20260421T143606Z
DESCRIPTION:Music and movement have the unique ability to engage the entire
  brain\, nurturing every area of growth and development. Together we will 
 learn the science behind these benefits and explore how you can use music 
 and movement in your classroom. Get ready to sing and dance along as we ex
 plore how music and movement nurture three big developmental areas: \n•	Soc
 ial and emotional development\n•	Gross and fine motor skills\n•	Language\, c
 ommunication\, and literacy\nCaregivers of children from birth through twe
 lve years of age will gain musical teaching tools - no musical experience 
 or “skills” required! \n\nTrainer: Rachel Calogerakis\, Owner & Operator H
 armony Garden Music Center\n\nThis training is appropriate for all modalit
 ies and general public.\n\nOCFS subject areas: (1) Principal of Childhood 
 Development and (3) Child Day Care Program Development\n
DTSTART;TZID=America/New_York:20241204T183000
DTEND;TZID=America/New_York:20241204T203000
LOCATION:301 Manchester Rd. Suite 201A\, Poughkeepse\, NY 12603 US
SUMMARY:Cancelled - Music & Movement: Super Food for the Child's Brain
END:VEVENT
END:VCALENDAR
