BEGIN:VCALENDAR
VERSION:2.0
PRODID:-//www.childcaredutchess.org//NONSGML kigkonsult.se iCalcreator 2.30
 .10//
CALSCALE:GREGORIAN
METHOD:PUBLISH
UID:52174100-eb17-40c7-afbd-c3a2901adcaf
X-WR-CALDESC:Before and after-school care has a great opportunity to build 
 upon the interests of students as well as the knowledge gained during thei
 r school day!  We are here to make STEAM - science\, technology\, engineer
 ing\, art\, and math cool in after school!  Join us for a hands-on trainin
 g that dives into each area of STEAM.  Participants will learn how to unta
 p the learning potential of their students with fun and engaging activitie
 s!\n\nTrainer: Wendy Cooper\, Director of Professional Development\, CCCDP
 \n\nOCFS topic areas: (3) Child Day Care Program Development\n\nAppropriat
 e for SACC programs\n\nCost is $25.00 per registrant
X-WR-RELCALID:51c9d1a8c2de493bd7e5a41973878f38
X-WR-TIMEZONE:America/New_York
BEGIN:VTIMEZONE
TZID:America/New_York
BEGIN:STANDARD
TZNAME:EST
DTSTART:20241103T020000
TZOFFSETFROM:-0400
TZOFFSETTO:-0500
RDATE:20251102T020000
END:STANDARD
BEGIN:DAYLIGHT
TZNAME:EDT
DTSTART:20240310T020000
TZOFFSETFROM:-0500
TZOFFSETTO:-0400
RDATE:20250309T020000
RDATE:20260308T020000
END:DAYLIGHT
END:VTIMEZONE
BEGIN:VEVENT
UID:0f6c5bdf-c7b6-4c63-a860-df3d3b0e1dfe
DTSTAMP:20260421T143531Z
DESCRIPTION:Before and after-school care has a great opportunity to build u
 pon the interests of students as well as the knowledge gained during their
  school day!  We are here to make STEAM - science\, technology\, engineeri
 ng\, art\, and math cool in after school!  Join us for a hands-on training
  that dives into each area of STEAM.  Participants will learn how to untap
  the learning potential of their students with fun and engaging activities
 !\n\nTrainer: Wendy Cooper\, Director of Professional Development\, CCCDP
 \n\nOCFS topic areas: (3) Child Day Care Program Development\n\nAppropriat
 e for SACC programs\n\nCost is $25.00 per registrant
DTSTART;TZID=America/New_York:20241217T183000
DTEND;TZID=America/New_York:20241217T203000
LOCATION:301 Manchester Rd. Suite 201A\, Poughkeepse\, NY 12603 US
SUMMARY:CANCELLED - Making STEAM Cool in After School
END:VEVENT
END:VCALENDAR
