BEGIN:VCALENDAR
VERSION:2.0
PRODID:-//www.childcaredutchess.org//NONSGML kigkonsult.se iCalcreator 2.30
 .10//
CALSCALE:GREGORIAN
METHOD:PUBLISH
UID:1673d9ea-252f-422e-88e2-49d29be0489b
X-WR-CALDESC:This training is aimed at providing new child care providers w
 ith fundamental computer skills and guiding them through the process of na
 vigating FAMS. Participants are encouraged to bring their laptops to work 
 directly with the trainers. The training will cover electronic file organi
 zation\, uploading and downloading files\, email basics\, navigating the C
 hild Care Council of Dutchess and Putnam website\, the OCFS website\, and 
 FAMS.\n\nTrainers: Brianna Vigliotti\, Registrar\, CCCDP\n                
 Wendy Cooper\, Director of Professional Development\, CCCDP\n\nThe cost of
  this training is $25.\n\nOCFS Topics covered include: (5) Business Record
  Maintenance and Management\n\nThis training is for FDC & SACC programs.\n
X-WR-RELCALID:fbcbe4430974004769a8146f0ec45509
X-WR-TIMEZONE:America/New_York
BEGIN:VTIMEZONE
TZID:America/New_York
BEGIN:STANDARD
TZNAME:EST
DTSTART:20241103T020000
TZOFFSETFROM:-0400
TZOFFSETTO:-0500
RDATE:20251102T020000
END:STANDARD
BEGIN:DAYLIGHT
TZNAME:EDT
DTSTART:20240310T020000
TZOFFSETFROM:-0500
TZOFFSETTO:-0400
RDATE:20250309T020000
RDATE:20260308T020000
END:DAYLIGHT
END:VTIMEZONE
BEGIN:VEVENT
UID:5ae6b790-3a09-425d-af2d-266f2dddf042
DTSTAMP:20260421T155414Z
DESCRIPTION:This training is aimed at providing new child care providers wi
 th fundamental computer skills and guiding them through the process of nav
 igating FAMS. Participants are encouraged to bring their laptops to work d
 irectly with the trainers. The training will cover electronic file organiz
 ation\, uploading and downloading files\, email basics\, navigating the Ch
 ild Care Council of Dutchess and Putnam website\, the OCFS website\, and F
 AMS.\n\nTrainers: Brianna Vigliotti\, Registrar\, CCCDP\n                W
 endy Cooper\, Director of Professional Development\, CCCDP\n\nThe cost of 
 this training is $25.\n\nOCFS Topics covered include: (5) Business Record 
 Maintenance and Management\n\nThis training is for FDC & SACC programs.\n
DTSTART;TZID=America/New_York:20250114T183000
DTEND;TZID=America/New_York:20250114T203000
LOCATION:301 Manchester Rd. Suite 201A\, Poughkeepse\, NY 12603 US
SUMMARY:New Child Care Provider: Computer Road Map & Navigating FAMS
END:VEVENT
END:VCALENDAR
