BEGIN:VCALENDAR
VERSION:2.0
PRODID:-//www.childcaredutchess.org//NONSGML kigkonsult.se iCalcreator 2.30
 .10//
CALSCALE:GREGORIAN
METHOD:PUBLISH
UID:b5f72a4f-8976-4f85-a45f-0367960e8de3
X-WR-CALDESC:In this training participants will explore loose parts play\, 
 its origin and benefits. This style of play involves providing children wi
 th a variety of open-ended\, movable materials that stimulate creativity\,
  problem-solving\, and cognitive development. The benefits of loose parts 
 play include fostering imagination\, enhancing fine and gross motor skills
 \, promoting social interaction\, and building confidence as children enga
 ge in self-directed play. We will explore safety concerns also discussing 
 NYS child care regulations. Participants will take with them effective imp
 lementation strategies including extensive ideas of diverse materials\, cr
 eating flexible play spaces\, encouraging collaboration\, and integrating 
 loose parts into both structured and unstructured activities.\n\nJoin us f
 or this fun and hands-on training! Register today!\n\nTrainer: Wendy Coope
 r\, Director of Professional Development\, CCCDP\nCost: $25.00 per person
 \n\nOCFS topics covered include: Principals of Child Development & Child D
 ay Care Program Development\n\nThis training is appropriate for all modali
 ties.\n
X-WR-RELCALID:6bbed8a64487bd2dfff112b208656808
X-WR-TIMEZONE:America/New_York
BEGIN:VTIMEZONE
TZID:America/New_York
BEGIN:STANDARD
TZNAME:EST
DTSTART:20241103T020000
TZOFFSETFROM:-0400
TZOFFSETTO:-0500
RDATE:20251102T020000
END:STANDARD
BEGIN:DAYLIGHT
TZNAME:EDT
DTSTART:20240310T020000
TZOFFSETFROM:-0500
TZOFFSETTO:-0400
RDATE:20250309T020000
RDATE:20260308T020000
END:DAYLIGHT
END:VTIMEZONE
BEGIN:VEVENT
UID:e93ab166-9a4c-4cb6-8666-0c2fc7004045
DTSTAMP:20260421T161801Z
DESCRIPTION:In this training participants will explore loose parts play\, i
 ts origin and benefits. This style of play involves providing children wit
 h a variety of open-ended\, movable materials that stimulate creativity\, 
 problem-solving\, and cognitive development. The benefits of loose parts p
 lay include fostering imagination\, enhancing fine and gross motor skills\
 , promoting social interaction\, and building confidence as children engag
 e in self-directed play. We will explore safety concerns also discussing N
 YS child care regulations. Participants will take with them effective impl
 ementation strategies including extensive ideas of diverse materials\, cre
 ating flexible play spaces\, encouraging collaboration\, and integrating l
 oose parts into both structured and unstructured activities.\n\nJoin us fo
 r this fun and hands-on training! Register today!\n\nTrainer: Wendy Cooper
 \, Director of Professional Development\, CCCDP\nCost: $25.00 per person\n
 \nOCFS topics covered include: Principals of Child Development & Child Day
  Care Program Development\n\nThis training is appropriate for all modaliti
 es.\n
DTSTART;TZID=America/New_York:20250116T183000
DTEND;TZID=America/New_York:20250116T203000
LOCATION:301 Manchester Rd. Suite 201A\, Poughkeepse\, NY 12603 US
SUMMARY:Building Blocks to Creativity: Empowering Loose Parts Play
END:VEVENT
END:VCALENDAR
