BEGIN:VCALENDAR
VERSION:2.0
PRODID:-//www.childcaredutchess.org//NONSGML kigkonsult.se iCalcreator 2.30
 .10//
CALSCALE:GREGORIAN
METHOD:PUBLISH
UID:4e7a5adf-9be0-4271-9347-8de1b7ec6dc7
X-WR-CALDESC:Saturday\, January 25\, 2025\n9:30 am - 12:30 pm\n301 Manchest
 er Rd. Suite 201A\nPoughkeepse\, NY 12603\n\nThis class meets the OCFS req
 uirements for CPR and First Aid for child care providers.\n\nTrainer: Scot
 t Kohn\, Certified First Aid/CPR Instructor\n\nThe cost for the class is $
 75 per person and is not EIP eligible.\n\nTHIS CLASS IS LIMITED TO 20 PEOP
 LE ONLY. Register early to reserve your spot!
X-WR-RELCALID:48ffe4ccd1b5b45e6f9d67b361101c75
X-WR-TIMEZONE:America/New_York
BEGIN:VTIMEZONE
TZID:America/New_York
BEGIN:STANDARD
TZNAME:EST
DTSTART:20241103T020000
TZOFFSETFROM:-0400
TZOFFSETTO:-0500
RDATE:20251102T020000
END:STANDARD
BEGIN:DAYLIGHT
TZNAME:EDT
DTSTART:20240310T020000
TZOFFSETFROM:-0500
TZOFFSETTO:-0400
RDATE:20250309T020000
RDATE:20260308T020000
END:DAYLIGHT
END:VTIMEZONE
BEGIN:VEVENT
UID:a073380c-3e25-4450-8455-df8aee1f85cf
DTSTAMP:20260421T162223Z
DESCRIPTION:Saturday\, January 25\, 2025\n9:30 am - 12:30 pm\n301 Mancheste
 r Rd. Suite 201A\nPoughkeepse\, NY 12603\n\nThis class meets the OCFS requ
 irements for CPR and First Aid for child care providers.\n\nTrainer: Scott
  Kohn\, Certified First Aid/CPR Instructor\n\nThe cost for the class is $7
 5 per person and is not EIP eligible.\n\nTHIS CLASS IS LIMITED TO 20 PEOPL
 E ONLY. Register early to reserve your spot!
DTSTART;TZID=America/New_York:20250125T093000
DTEND;TZID=America/New_York:20250125T123000
LOCATION:301 Manchester Rd. Suite 201A\, Poughkeepse\, NY 12603 US
SUMMARY:FULL - Adult/Child/Infant First Aid/CPR/AED
END:VEVENT
END:VCALENDAR
