BEGIN:VCALENDAR
VERSION:2.0
PRODID:-//www.childcaredutchess.org//NONSGML kigkonsult.se iCalcreator 2.30
 .10//
CALSCALE:GREGORIAN
METHOD:PUBLISH
UID:b6145a71-51e4-4a00-9a4c-718afce5aa5b
X-WR-CALDESC:The Citizen Preparedness Corps is an Emergency Preparedness pr
 ogram initiated back in 2014 to provide residents the knowledge and tools 
 to prepare for emergencies and disasters\, respond accordingly\, and recov
 er as quickly as possible. New York National Guard Service Members\, worki
 ng with experts from the New York State Division of Homeland Security and 
 Emergency Services (DHSES) and local Emergency Management personnel\, are 
 holding classes across the state. The program was designed by DHSES and co
 vers a broad range of emergency preparedness topics like developing a fami
 ly emergency plan\, what to do in the case of an Active Shooter situation\
 , stocking up on emergency supplies\, and registering for NY-Alert\, the f
 ree statewide emergency alert system.\n\nTrainer: Citizens Preparedness Co
 rps.\nCost: $20 per person\n\nAppropriate for all modalities and open to t
 he public.
X-WR-RELCALID:3eed72e576716dc72aca06e201662570
X-WR-TIMEZONE:America/New_York
BEGIN:VTIMEZONE
TZID:America/New_York
BEGIN:STANDARD
TZNAME:EST
DTSTART:20241103T020000
TZOFFSETFROM:-0400
TZOFFSETTO:-0500
RDATE:20251102T020000
END:STANDARD
BEGIN:DAYLIGHT
TZNAME:EDT
DTSTART:20240310T020000
TZOFFSETFROM:-0500
TZOFFSETTO:-0400
RDATE:20250309T020000
RDATE:20260308T020000
END:DAYLIGHT
END:VTIMEZONE
BEGIN:VEVENT
UID:fb244b59-3bfe-4c05-9e1b-dc7c8d4b3e5d
DTSTAMP:20260421T175838Z
DESCRIPTION:The Citizen Preparedness Corps is an Emergency Preparedness pro
 gram initiated back in 2014 to provide residents the knowledge and tools t
 o prepare for emergencies and disasters\, respond accordingly\, and recove
 r as quickly as possible. New York National Guard Service Members\, workin
 g with experts from the New York State Division of Homeland Security and E
 mergency Services (DHSES) and local Emergency Management personnel\, are h
 olding classes across the state. The program was designed by DHSES and cov
 ers a broad range of emergency preparedness topics like developing a famil
 y emergency plan\, what to do in the case of an Active Shooter situation\,
  stocking up on emergency supplies\, and registering for NY-Alert\, the fr
 ee statewide emergency alert system.\n\nTrainer: Citizens Preparedness Cor
 ps.\nCost: $20 per person\n\nAppropriate for all modalities and open to th
 e public.
DTSTART;TZID=America/New_York:20250204T183000
DTEND;TZID=America/New_York:20250204T200000
LOCATION:301 Manchester Rd. Suite 201A\, Poughkeepse\, NY 12603 US
SUMMARY:Cancelled - Emergency Preparedness
END:VEVENT
END:VCALENDAR
