BEGIN:VCALENDAR
VERSION:2.0
PRODID:-//www.childcaredutchess.org//NONSGML kigkonsult.se iCalcreator 2.30
 .10//
CALSCALE:GREGORIAN
METHOD:PUBLISH
UID:8f9532d1-f247-41c6-b68f-98f5ecd12f5f
X-WR-CALDESC:Saturday\, February 8\, 2025\n9:30 am - 12:30 pm\n301 Manchest
 er Rd. Suite 201A\nPoughkeepsie\, NY 12603\n\nThis class meets the OCFS re
 quirements for CPR and First Aid for child care providers.\n\nTrainer: Sco
 tt Kohn\, Certified First Aid/CPR Instructor\n\nThe cost for the class is 
 $75 per person and is not EIP eligible.\n\nTHIS CLASS IS LIMITED TO 20 PEO
 PLE ONLY. Register early to reserve your spot!
X-WR-RELCALID:c6c0303b22a87a56821d4da01dd9c4aa
X-WR-TIMEZONE:America/New_York
BEGIN:VTIMEZONE
TZID:America/New_York
BEGIN:STANDARD
TZNAME:EST
DTSTART:20241103T020000
TZOFFSETFROM:-0400
TZOFFSETTO:-0500
RDATE:20251102T020000
END:STANDARD
BEGIN:DAYLIGHT
TZNAME:EDT
DTSTART:20240310T020000
TZOFFSETFROM:-0500
TZOFFSETTO:-0400
RDATE:20250309T020000
RDATE:20260308T020000
END:DAYLIGHT
END:VTIMEZONE
BEGIN:VEVENT
UID:582514a4-819f-4bb1-be0b-3d17cf4ac80b
DTSTAMP:20260421T173902Z
DESCRIPTION:Saturday\, February 8\, 2025\n9:30 am - 12:30 pm\n301 Mancheste
 r Rd. Suite 201A\nPoughkeepsie\, NY 12603\n\nThis class meets the OCFS req
 uirements for CPR and First Aid for child care providers.\n\nTrainer: Scot
 t Kohn\, Certified First Aid/CPR Instructor\n\nThe cost for the class is $
 75 per person and is not EIP eligible.\n\nTHIS CLASS IS LIMITED TO 20 PEOP
 LE ONLY. Register early to reserve your spot!
DTSTART;TZID=America/New_York:20250208T093000
DTEND;TZID=America/New_York:20250208T123000
LOCATION:301 Manchester Rd. Suite 201A\, Poughkeepse\, NY 12603 US
SUMMARY:FULL - First Aid/CPR/AED
END:VEVENT
END:VCALENDAR
